BEGIN:VCALENDAR
VERSION:2.0
PRODID:-//Mango Rita&#039;s - ECPv6.15.20//NONSGML v1.0//EN
CALSCALE:GREGORIAN
METHOD:PUBLISH
X-ORIGINAL-URL:https://www.mangoritasfmb.com
X-WR-CALDESC:Events for Mango Rita&#039;s
REFRESH-INTERVAL;VALUE=DURATION:PT1H
X-Robots-Tag:noindex
X-PUBLISHED-TTL:PT1H
BEGIN:VTIMEZONE
TZID:America/New_York
BEGIN:DAYLIGHT
TZOFFSETFROM:-0500
TZOFFSETTO:-0400
TZNAME:EDT
DTSTART:20250309T070000
END:DAYLIGHT
BEGIN:STANDARD
TZOFFSETFROM:-0400
TZOFFSETTO:-0500
TZNAME:EST
DTSTART:20251102T060000
END:STANDARD
BEGIN:DAYLIGHT
TZOFFSETFROM:-0500
TZOFFSETTO:-0400
TZNAME:EDT
DTSTART:20260308T070000
END:DAYLIGHT
BEGIN:STANDARD
TZOFFSETFROM:-0400
TZOFFSETTO:-0500
TZNAME:EST
DTSTART:20261101T060000
END:STANDARD
BEGIN:DAYLIGHT
TZOFFSETFROM:-0500
TZOFFSETTO:-0400
TZNAME:EDT
DTSTART:20270314T070000
END:DAYLIGHT
BEGIN:STANDARD
TZOFFSETFROM:-0400
TZOFFSETTO:-0500
TZNAME:EST
DTSTART:20271107T060000
END:STANDARD
END:VTIMEZONE
BEGIN:VEVENT
DTSTART;TZID=America/New_York:20260502T200000
DTEND;TZID=America/New_York:20260502T200000
DTSTAMP:20260425T192751
CREATED:20260226T132208Z
LAST-MODIFIED:20260226T132300Z
UID:10000913-1777752000-1777752000@www.mangoritasfmb.com
SUMMARY:2 SHOWS\, ONE EPIC NIGHT with WICKED SERENITY - The Ultimate Tribute to GODSMACK and SIGNS OF SACFRIFICE - The Ultimate Tribute to CREED.
DESCRIPTION:Purchase tickets Here! Must be 21 to enter. Doors Open at 6:00 PM. Come early and enjoy mouth watering food and cold drinks at Mango Rita’s Rhythm House served by the best and friendliest staff in the business. WICKED SERENITY has been dominating the tribute band scene\, setting a new standard for high-energy\, unforgettable live performances. SIGNS OF SACRIFICE is an unparalleled CREED tribute band\, capturing the hearts of fans with their exceptional musicianship and electrifying performances. 
URL:https://www.mangoritasfmb.com/event/2-shows-one-epic-night-with-wicked-serenity-the-ultimate-tribute-to-godsmack-and-signs-of-sacfrifice-the-ultimate-tribute-to-creed/
LOCATION:Mango Rita’s\, 16440 S Tamiami Trail\, Fort Myers\, 33908\, United States
CATEGORIES:DANCING,LIVE MUSIC,Rock and Roll,Tribute Band
ATTACH;FMTTYPE=image/jpeg:https://www.mangoritasfmb.com/rita-content/uploads/2026/02/wicked_Serinity_-5-2-26.jpg
END:VEVENT
END:VCALENDAR