BEGIN:VCALENDAR
VERSION:2.0
PRODID:-//Mango Rita&#039;s - ECPv6.15.20//NONSGML v1.0//EN
CALSCALE:GREGORIAN
METHOD:PUBLISH
X-WR-CALNAME:Mango Rita&#039;s
X-ORIGINAL-URL:https://www.mangoritasfmb.com
X-WR-CALDESC:Events for Mango Rita&#039;s
REFRESH-INTERVAL;VALUE=DURATION:PT1H
X-Robots-Tag:noindex
X-PUBLISHED-TTL:PT1H
BEGIN:VTIMEZONE
TZID:America/New_York
BEGIN:DAYLIGHT
TZOFFSETFROM:-0500
TZOFFSETTO:-0400
TZNAME:EDT
DTSTART:20290311T070000
END:DAYLIGHT
BEGIN:STANDARD
TZOFFSETFROM:-0400
TZOFFSETTO:-0500
TZNAME:EST
DTSTART:20291104T060000
END:STANDARD
BEGIN:DAYLIGHT
TZOFFSETFROM:-0500
TZOFFSETTO:-0400
TZNAME:EDT
DTSTART:20300310T070000
END:DAYLIGHT
BEGIN:STANDARD
TZOFFSETFROM:-0400
TZOFFSETTO:-0500
TZNAME:EST
DTSTART:20301103T060000
END:STANDARD
BEGIN:DAYLIGHT
TZOFFSETFROM:-0500
TZOFFSETTO:-0400
TZNAME:EDT
DTSTART:20310309T070000
END:DAYLIGHT
BEGIN:STANDARD
TZOFFSETFROM:-0400
TZOFFSETTO:-0500
TZNAME:EST
DTSTART:20311102T060000
END:STANDARD
END:VTIMEZONE
BEGIN:VEVENT
DTSTART;TZID=America/New_York:20301203T180000
DTEND;TZID=America/New_York:20301203T180000
DTSTAMP:20260423T224817
CREATED:20250604T233504Z
LAST-MODIFIED:20260202T145743Z
UID:10000799-1922551200-1922551200@www.mangoritasfmb.com
SUMMARY:World of Pearl
DESCRIPTION:Join Pearl every Tuesday for a soulful night of Motown\, Blues\, and R&B hits! Smooth sound\, timeless tunes\, and great company—only at Mango Rita’s Rhythm House. COME EARLY and JOIN US FOR DINNER. FANTASTIC FOOD from a SPECIAL MENU.
URL:https://www.mangoritasfmb.com/event/world-of-pearl-3-2026-02-24/2030-12-03/
LOCATION:Mango Rita’s\, 16440 S Tamiami Trail\, Fort Myers\, 33908\, United States
CATEGORIES:DANCING,FUN,LIVE MUSIC,Local Band
ATTACH;FMTTYPE=image/jpeg:https://www.mangoritasfmb.com/rita-content/uploads/2022/12/PEARL4.jpg
END:VEVENT
BEGIN:VEVENT
DTSTART;TZID=America/New_York:20301210T180000
DTEND;TZID=America/New_York:20301210T180000
DTSTAMP:20260423T224817
CREATED:20250604T233504Z
LAST-MODIFIED:20260202T145743Z
UID:10000800-1923156000-1923156000@www.mangoritasfmb.com
SUMMARY:World of Pearl
DESCRIPTION:Join Pearl every Tuesday for a soulful night of Motown\, Blues\, and R&B hits! Smooth sound\, timeless tunes\, and great company—only at Mango Rita’s Rhythm House. COME EARLY and JOIN US FOR DINNER. FANTASTIC FOOD from a SPECIAL MENU.
URL:https://www.mangoritasfmb.com/event/world-of-pearl-3-2026-02-24/2030-12-10/
LOCATION:Mango Rita’s\, 16440 S Tamiami Trail\, Fort Myers\, 33908\, United States
CATEGORIES:DANCING,FUN,LIVE MUSIC,Local Band
ATTACH;FMTTYPE=image/jpeg:https://www.mangoritasfmb.com/rita-content/uploads/2022/12/PEARL4.jpg
END:VEVENT
BEGIN:VEVENT
DTSTART;TZID=America/New_York:20301217T180000
DTEND;TZID=America/New_York:20301217T180000
DTSTAMP:20260423T224817
CREATED:20250604T233504Z
LAST-MODIFIED:20260202T145743Z
UID:10000801-1923760800-1923760800@www.mangoritasfmb.com
SUMMARY:World of Pearl
DESCRIPTION:Join Pearl every Tuesday for a soulful night of Motown\, Blues\, and R&B hits! Smooth sound\, timeless tunes\, and great company—only at Mango Rita’s Rhythm House. COME EARLY and JOIN US FOR DINNER. FANTASTIC FOOD from a SPECIAL MENU.
URL:https://www.mangoritasfmb.com/event/world-of-pearl-3-2026-02-24/2030-12-17/
LOCATION:Mango Rita’s\, 16440 S Tamiami Trail\, Fort Myers\, 33908\, United States
CATEGORIES:DANCING,FUN,LIVE MUSIC,Local Band
ATTACH;FMTTYPE=image/jpeg:https://www.mangoritasfmb.com/rita-content/uploads/2022/12/PEARL4.jpg
END:VEVENT
BEGIN:VEVENT
DTSTART;TZID=America/New_York:20301224T180000
DTEND;TZID=America/New_York:20301224T180000
DTSTAMP:20260423T224817
CREATED:20250604T233504Z
LAST-MODIFIED:20260202T145743Z
UID:10000802-1924365600-1924365600@www.mangoritasfmb.com
SUMMARY:World of Pearl
DESCRIPTION:Join Pearl every Tuesday for a soulful night of Motown\, Blues\, and R&B hits! Smooth sound\, timeless tunes\, and great company—only at Mango Rita’s Rhythm House. COME EARLY and JOIN US FOR DINNER. FANTASTIC FOOD from a SPECIAL MENU.
URL:https://www.mangoritasfmb.com/event/world-of-pearl-3-2026-02-24/2030-12-24/
LOCATION:Mango Rita’s\, 16440 S Tamiami Trail\, Fort Myers\, 33908\, United States
CATEGORIES:DANCING,FUN,LIVE MUSIC,Local Band
ATTACH;FMTTYPE=image/jpeg:https://www.mangoritasfmb.com/rita-content/uploads/2022/12/PEARL4.jpg
END:VEVENT
BEGIN:VEVENT
DTSTART;TZID=America/New_York:20301231T180000
DTEND;TZID=America/New_York:20301231T180000
DTSTAMP:20260423T224817
CREATED:20250604T233504Z
LAST-MODIFIED:20260202T145743Z
UID:10000803-1924970400-1924970400@www.mangoritasfmb.com
SUMMARY:World of Pearl
DESCRIPTION:Join Pearl every Tuesday for a soulful night of Motown\, Blues\, and R&B hits! Smooth sound\, timeless tunes\, and great company—only at Mango Rita’s Rhythm House. COME EARLY and JOIN US FOR DINNER. FANTASTIC FOOD from a SPECIAL MENU.
URL:https://www.mangoritasfmb.com/event/world-of-pearl-3-2026-02-24/2030-12-31/
LOCATION:Mango Rita’s\, 16440 S Tamiami Trail\, Fort Myers\, 33908\, United States
CATEGORIES:DANCING,FUN,LIVE MUSIC,Local Band
ATTACH;FMTTYPE=image/jpeg:https://www.mangoritasfmb.com/rita-content/uploads/2022/12/PEARL4.jpg
END:VEVENT
END:VCALENDAR