BEGIN:VCALENDAR
VERSION:2.0
PRODID:-//Mango Rita&#039;s - ECPv6.15.20//NONSGML v1.0//EN
CALSCALE:GREGORIAN
METHOD:PUBLISH
X-WR-CALNAME:Mango Rita&#039;s
X-ORIGINAL-URL:https://www.mangoritasfmb.com
X-WR-CALDESC:Events for Mango Rita&#039;s
REFRESH-INTERVAL;VALUE=DURATION:PT1H
X-Robots-Tag:noindex
X-PUBLISHED-TTL:PT1H
BEGIN:VTIMEZONE
TZID:America/New_York
BEGIN:DAYLIGHT
TZOFFSETFROM:-0500
TZOFFSETTO:-0400
TZNAME:EDT
DTSTART:20290311T070000
END:DAYLIGHT
BEGIN:STANDARD
TZOFFSETFROM:-0400
TZOFFSETTO:-0500
TZNAME:EST
DTSTART:20291104T060000
END:STANDARD
BEGIN:DAYLIGHT
TZOFFSETFROM:-0500
TZOFFSETTO:-0400
TZNAME:EDT
DTSTART:20300310T070000
END:DAYLIGHT
BEGIN:STANDARD
TZOFFSETFROM:-0400
TZOFFSETTO:-0500
TZNAME:EST
DTSTART:20301103T060000
END:STANDARD
BEGIN:DAYLIGHT
TZOFFSETFROM:-0500
TZOFFSETTO:-0400
TZNAME:EDT
DTSTART:20310309T070000
END:DAYLIGHT
BEGIN:STANDARD
TZOFFSETFROM:-0400
TZOFFSETTO:-0500
TZNAME:EST
DTSTART:20311102T060000
END:STANDARD
END:VTIMEZONE
BEGIN:VEVENT
DTSTART;TZID=America/New_York:20300101T180000
DTEND;TZID=America/New_York:20300101T180000
DTSTAMP:20260423T045948
CREATED:20250604T233504Z
LAST-MODIFIED:20260202T145743Z
UID:10000751-1893520800-1893520800@www.mangoritasfmb.com
SUMMARY:World of Pearl
DESCRIPTION:Join Pearl every Tuesday for a soulful night of Motown\, Blues\, and R&B hits! Smooth sound\, timeless tunes\, and great company—only at Mango Rita’s Rhythm House. COME EARLY and JOIN US FOR DINNER. FANTASTIC FOOD from a SPECIAL MENU.
URL:https://www.mangoritasfmb.com/event/world-of-pearl-3-2026-02-24/2030-01-01/
LOCATION:Mango Rita’s\, 16440 S Tamiami Trail\, Fort Myers\, 33908\, United States
CATEGORIES:DANCING,FUN,LIVE MUSIC,Local Band
ATTACH;FMTTYPE=image/jpeg:https://www.mangoritasfmb.com/rita-content/uploads/2022/12/PEARL4.jpg
END:VEVENT
BEGIN:VEVENT
DTSTART;TZID=America/New_York:20300108T180000
DTEND;TZID=America/New_York:20300108T180000
DTSTAMP:20260423T045948
CREATED:20250604T233504Z
LAST-MODIFIED:20260202T145743Z
UID:10000752-1894125600-1894125600@www.mangoritasfmb.com
SUMMARY:World of Pearl
DESCRIPTION:Join Pearl every Tuesday for a soulful night of Motown\, Blues\, and R&B hits! Smooth sound\, timeless tunes\, and great company—only at Mango Rita’s Rhythm House. COME EARLY and JOIN US FOR DINNER. FANTASTIC FOOD from a SPECIAL MENU.
URL:https://www.mangoritasfmb.com/event/world-of-pearl-3-2026-02-24/2030-01-08/
LOCATION:Mango Rita’s\, 16440 S Tamiami Trail\, Fort Myers\, 33908\, United States
CATEGORIES:DANCING,FUN,LIVE MUSIC,Local Band
ATTACH;FMTTYPE=image/jpeg:https://www.mangoritasfmb.com/rita-content/uploads/2022/12/PEARL4.jpg
END:VEVENT
BEGIN:VEVENT
DTSTART;TZID=America/New_York:20300115T180000
DTEND;TZID=America/New_York:20300115T180000
DTSTAMP:20260423T045948
CREATED:20250604T233504Z
LAST-MODIFIED:20260202T145743Z
UID:10000753-1894730400-1894730400@www.mangoritasfmb.com
SUMMARY:World of Pearl
DESCRIPTION:Join Pearl every Tuesday for a soulful night of Motown\, Blues\, and R&B hits! Smooth sound\, timeless tunes\, and great company—only at Mango Rita’s Rhythm House. COME EARLY and JOIN US FOR DINNER. FANTASTIC FOOD from a SPECIAL MENU.
URL:https://www.mangoritasfmb.com/event/world-of-pearl-3-2026-02-24/2030-01-15/
LOCATION:Mango Rita’s\, 16440 S Tamiami Trail\, Fort Myers\, 33908\, United States
CATEGORIES:DANCING,FUN,LIVE MUSIC,Local Band
ATTACH;FMTTYPE=image/jpeg:https://www.mangoritasfmb.com/rita-content/uploads/2022/12/PEARL4.jpg
END:VEVENT
BEGIN:VEVENT
DTSTART;TZID=America/New_York:20300122T180000
DTEND;TZID=America/New_York:20300122T180000
DTSTAMP:20260423T045948
CREATED:20250604T233504Z
LAST-MODIFIED:20260202T145743Z
UID:10000754-1895335200-1895335200@www.mangoritasfmb.com
SUMMARY:World of Pearl
DESCRIPTION:Join Pearl every Tuesday for a soulful night of Motown\, Blues\, and R&B hits! Smooth sound\, timeless tunes\, and great company—only at Mango Rita’s Rhythm House. COME EARLY and JOIN US FOR DINNER. FANTASTIC FOOD from a SPECIAL MENU.
URL:https://www.mangoritasfmb.com/event/world-of-pearl-3-2026-02-24/2030-01-22/
LOCATION:Mango Rita’s\, 16440 S Tamiami Trail\, Fort Myers\, 33908\, United States
CATEGORIES:DANCING,FUN,LIVE MUSIC,Local Band
ATTACH;FMTTYPE=image/jpeg:https://www.mangoritasfmb.com/rita-content/uploads/2022/12/PEARL4.jpg
END:VEVENT
BEGIN:VEVENT
DTSTART;TZID=America/New_York:20300129T180000
DTEND;TZID=America/New_York:20300129T180000
DTSTAMP:20260423T045948
CREATED:20250604T233504Z
LAST-MODIFIED:20260202T145743Z
UID:10000755-1895940000-1895940000@www.mangoritasfmb.com
SUMMARY:World of Pearl
DESCRIPTION:Join Pearl every Tuesday for a soulful night of Motown\, Blues\, and R&B hits! Smooth sound\, timeless tunes\, and great company—only at Mango Rita’s Rhythm House. COME EARLY and JOIN US FOR DINNER. FANTASTIC FOOD from a SPECIAL MENU.
URL:https://www.mangoritasfmb.com/event/world-of-pearl-3-2026-02-24/2030-01-29/
LOCATION:Mango Rita’s\, 16440 S Tamiami Trail\, Fort Myers\, 33908\, United States
CATEGORIES:DANCING,FUN,LIVE MUSIC,Local Band
ATTACH;FMTTYPE=image/jpeg:https://www.mangoritasfmb.com/rita-content/uploads/2022/12/PEARL4.jpg
END:VEVENT
END:VCALENDAR