BEGIN:VCALENDAR
VERSION:2.0
PRODID:-//Mango Rita&#039;s - ECPv6.15.20//NONSGML v1.0//EN
CALSCALE:GREGORIAN
METHOD:PUBLISH
X-ORIGINAL-URL:https://www.mangoritasfmb.com
X-WR-CALDESC:Events for Mango Rita&#039;s
REFRESH-INTERVAL;VALUE=DURATION:PT1H
X-Robots-Tag:noindex
X-PUBLISHED-TTL:PT1H
BEGIN:VTIMEZONE
TZID:America/New_York
BEGIN:DAYLIGHT
TZOFFSETFROM:-0500
TZOFFSETTO:-0400
TZNAME:EDT
DTSTART:20250309T070000
END:DAYLIGHT
BEGIN:STANDARD
TZOFFSETFROM:-0400
TZOFFSETTO:-0500
TZNAME:EST
DTSTART:20251102T060000
END:STANDARD
BEGIN:DAYLIGHT
TZOFFSETFROM:-0500
TZOFFSETTO:-0400
TZNAME:EDT
DTSTART:20260308T070000
END:DAYLIGHT
BEGIN:STANDARD
TZOFFSETFROM:-0400
TZOFFSETTO:-0500
TZNAME:EST
DTSTART:20261101T060000
END:STANDARD
BEGIN:DAYLIGHT
TZOFFSETFROM:-0500
TZOFFSETTO:-0400
TZNAME:EDT
DTSTART:20270314T070000
END:DAYLIGHT
BEGIN:STANDARD
TZOFFSETFROM:-0400
TZOFFSETTO:-0500
TZNAME:EST
DTSTART:20271107T060000
END:STANDARD
END:VTIMEZONE
BEGIN:VEVENT
DTSTART;TZID=America/New_York:20260804T180000
DTEND;TZID=America/New_York:20260804T180000
DTSTAMP:20260420T121327
CREATED:20250604T233504Z
LAST-MODIFIED:20260202T145743Z
UID:10000573-1785866400-1785866400@www.mangoritasfmb.com
SUMMARY:World of Pearl
DESCRIPTION:Join Pearl every Tuesday for a soulful night of Motown\, Blues\, and R&B hits! Smooth sound\, timeless tunes\, and great company—only at Mango Rita’s Rhythm House. COME EARLY and JOIN US FOR DINNER. FANTASTIC FOOD from a SPECIAL MENU.
URL:https://www.mangoritasfmb.com/event/world-of-pearl-3-2026-02-24/2026-08-04/
LOCATION:Mango Rita’s\, 16440 S Tamiami Trail\, Fort Myers\, 33908\, United States
CATEGORIES:DANCING,FUN,LIVE MUSIC,Local Band
ATTACH;FMTTYPE=image/jpeg:https://www.mangoritasfmb.com/rita-content/uploads/2022/12/PEARL4.jpg
END:VEVENT
BEGIN:VEVENT
DTSTART;TZID=America/New_York:20260811T180000
DTEND;TZID=America/New_York:20260811T180000
DTSTAMP:20260420T121327
CREATED:20250604T233504Z
LAST-MODIFIED:20260202T145743Z
UID:10000574-1786471200-1786471200@www.mangoritasfmb.com
SUMMARY:World of Pearl
DESCRIPTION:Join Pearl every Tuesday for a soulful night of Motown\, Blues\, and R&B hits! Smooth sound\, timeless tunes\, and great company—only at Mango Rita’s Rhythm House. COME EARLY and JOIN US FOR DINNER. FANTASTIC FOOD from a SPECIAL MENU.
URL:https://www.mangoritasfmb.com/event/world-of-pearl-3-2026-02-24/2026-08-11/
LOCATION:Mango Rita’s\, 16440 S Tamiami Trail\, Fort Myers\, 33908\, United States
CATEGORIES:DANCING,FUN,LIVE MUSIC,Local Band
ATTACH;FMTTYPE=image/jpeg:https://www.mangoritasfmb.com/rita-content/uploads/2022/12/PEARL4.jpg
END:VEVENT
BEGIN:VEVENT
DTSTART;TZID=America/New_York:20260818T180000
DTEND;TZID=America/New_York:20260818T180000
DTSTAMP:20260420T121327
CREATED:20250604T233504Z
LAST-MODIFIED:20260202T145743Z
UID:10000575-1787076000-1787076000@www.mangoritasfmb.com
SUMMARY:World of Pearl
DESCRIPTION:Join Pearl every Tuesday for a soulful night of Motown\, Blues\, and R&B hits! Smooth sound\, timeless tunes\, and great company—only at Mango Rita’s Rhythm House. COME EARLY and JOIN US FOR DINNER. FANTASTIC FOOD from a SPECIAL MENU.
URL:https://www.mangoritasfmb.com/event/world-of-pearl-3-2026-02-24/2026-08-18/
LOCATION:Mango Rita’s\, 16440 S Tamiami Trail\, Fort Myers\, 33908\, United States
CATEGORIES:DANCING,FUN,LIVE MUSIC,Local Band
ATTACH;FMTTYPE=image/jpeg:https://www.mangoritasfmb.com/rita-content/uploads/2022/12/PEARL4.jpg
END:VEVENT
BEGIN:VEVENT
DTSTART;TZID=America/New_York:20260825T180000
DTEND;TZID=America/New_York:20260825T180000
DTSTAMP:20260420T121327
CREATED:20250604T233504Z
LAST-MODIFIED:20260202T145743Z
UID:10000576-1787680800-1787680800@www.mangoritasfmb.com
SUMMARY:World of Pearl
DESCRIPTION:Join Pearl every Tuesday for a soulful night of Motown\, Blues\, and R&B hits! Smooth sound\, timeless tunes\, and great company—only at Mango Rita’s Rhythm House. COME EARLY and JOIN US FOR DINNER. FANTASTIC FOOD from a SPECIAL MENU.
URL:https://www.mangoritasfmb.com/event/world-of-pearl-3-2026-02-24/2026-08-25/
LOCATION:Mango Rita’s\, 16440 S Tamiami Trail\, Fort Myers\, 33908\, United States
CATEGORIES:DANCING,FUN,LIVE MUSIC,Local Band
ATTACH;FMTTYPE=image/jpeg:https://www.mangoritasfmb.com/rita-content/uploads/2022/12/PEARL4.jpg
END:VEVENT
END:VCALENDAR