BEGIN:VCALENDAR
VERSION:2.0
PRODID:-//Mango Rita&#039;s - ECPv6.15.20//NONSGML v1.0//EN
CALSCALE:GREGORIAN
METHOD:PUBLISH
X-WR-CALNAME:Mango Rita&#039;s
X-ORIGINAL-URL:https://www.mangoritasfmb.com
X-WR-CALDESC:Events for Mango Rita&#039;s
REFRESH-INTERVAL;VALUE=DURATION:PT1H
X-Robots-Tag:noindex
X-PUBLISHED-TTL:PT1H
BEGIN:VTIMEZONE
TZID:America/New_York
BEGIN:DAYLIGHT
TZOFFSETFROM:-0500
TZOFFSETTO:-0400
TZNAME:EDT
DTSTART:20250309T070000
END:DAYLIGHT
BEGIN:STANDARD
TZOFFSETFROM:-0400
TZOFFSETTO:-0500
TZNAME:EST
DTSTART:20251102T060000
END:STANDARD
BEGIN:DAYLIGHT
TZOFFSETFROM:-0500
TZOFFSETTO:-0400
TZNAME:EDT
DTSTART:20260308T070000
END:DAYLIGHT
BEGIN:STANDARD
TZOFFSETFROM:-0400
TZOFFSETTO:-0500
TZNAME:EST
DTSTART:20261101T060000
END:STANDARD
BEGIN:DAYLIGHT
TZOFFSETFROM:-0500
TZOFFSETTO:-0400
TZNAME:EDT
DTSTART:20270314T070000
END:DAYLIGHT
BEGIN:STANDARD
TZOFFSETFROM:-0400
TZOFFSETTO:-0500
TZNAME:EST
DTSTART:20271107T060000
END:STANDARD
END:VTIMEZONE
BEGIN:VEVENT
DTSTART;TZID=America/New_York:20260731T203000
DTEND;TZID=America/New_York:20260731T203000
DTSTAMP:20260419T153233
CREATED:20260416T150534Z
LAST-MODIFIED:20260416T151551Z
UID:10001198-1785529800-1785529800@www.mangoritasfmb.com
SUMMARY:GIVEN TO FLY - THE PEARL JAM EXPERIENCE
DESCRIPTION:Purchase tickets Here! Must be 21 to enter. Doors Open at 6:30 PM. Come early and enjoy mouth watering food and cold drinks at Mango Rita’s Rhythm House served by the best and friendliest staff in the business. GIVEN TO FLY –A National Touring Pearl Jam Experience was voted #1 tribute band in the Capital Region of New York and has been promoted on social media by non-other than PEARL JAM themselves!!!
URL:https://www.mangoritasfmb.com/event/given-to-fly-the-pearl-jam-experience/
LOCATION:Mango Rita’s\, 16440 S Tamiami Trail\, Fort Myers\, 33908\, United States
CATEGORIES:DANCING,LIVE MUSIC,Rock and Roll,Tribute Band
ATTACH;FMTTYPE=image/jpeg:https://www.mangoritasfmb.com/rita-content/uploads/2026/04/Given-to-fly-pearl-jam-7-31-26.jpg
END:VEVENT
END:VCALENDAR