BEGIN:VCALENDAR
VERSION:2.0
PRODID:-//Mango Rita&#039;s - ECPv6.15.20//NONSGML v1.0//EN
CALSCALE:GREGORIAN
METHOD:PUBLISH
X-WR-CALNAME:Mango Rita&#039;s
X-ORIGINAL-URL:https://www.mangoritasfmb.com
X-WR-CALDESC:Events for Mango Rita&#039;s
REFRESH-INTERVAL;VALUE=DURATION:PT1H
X-Robots-Tag:noindex
X-PUBLISHED-TTL:PT1H
BEGIN:VTIMEZONE
TZID:America/New_York
BEGIN:DAYLIGHT
TZOFFSETFROM:-0500
TZOFFSETTO:-0400
TZNAME:EDT
DTSTART:20280312T070000
END:DAYLIGHT
BEGIN:STANDARD
TZOFFSETFROM:-0400
TZOFFSETTO:-0500
TZNAME:EST
DTSTART:20281105T060000
END:STANDARD
BEGIN:DAYLIGHT
TZOFFSETFROM:-0500
TZOFFSETTO:-0400
TZNAME:EDT
DTSTART:20290311T070000
END:DAYLIGHT
BEGIN:STANDARD
TZOFFSETFROM:-0400
TZOFFSETTO:-0500
TZNAME:EST
DTSTART:20291104T060000
END:STANDARD
BEGIN:DAYLIGHT
TZOFFSETFROM:-0500
TZOFFSETTO:-0400
TZNAME:EDT
DTSTART:20300310T070000
END:DAYLIGHT
BEGIN:STANDARD
TZOFFSETFROM:-0400
TZOFFSETTO:-0500
TZNAME:EST
DTSTART:20301103T060000
END:STANDARD
END:VTIMEZONE
BEGIN:VEVENT
DTSTART;TZID=America/New_York:20291205T180000
DTEND;TZID=America/New_York:20291205T210000
DTSTAMP:20260422T013154
CREATED:20251211T005803Z
LAST-MODIFIED:20260129T124615Z
UID:10001124-1891188000-1891198800@www.mangoritasfmb.com
SUMMARY:Karaoke with Travis "Toad"
DESCRIPTION:Bringing the best sound to karaoke!
URL:https://www.mangoritasfmb.com/event/karaoke-with-travis-toad-11/2029-12-05/
LOCATION:Mango Rita’s\, 16440 S Tamiami Trail\, Fort Myers\, 33908\, United States
CATEGORIES:FUN,KARAOKE
ATTACH;FMTTYPE=image/jpeg:https://www.mangoritasfmb.com/rita-content/uploads/2025/11/Travis-Toad-Karaoke-with-copy.jpg
END:VEVENT
BEGIN:VEVENT
DTSTART;TZID=America/New_York:20291212T180000
DTEND;TZID=America/New_York:20291212T210000
DTSTAMP:20260422T013154
CREATED:20251211T005803Z
LAST-MODIFIED:20260129T124615Z
UID:10001125-1891792800-1891803600@www.mangoritasfmb.com
SUMMARY:Karaoke with Travis "Toad"
DESCRIPTION:Bringing the best sound to karaoke!
URL:https://www.mangoritasfmb.com/event/karaoke-with-travis-toad-11/2029-12-12/
LOCATION:Mango Rita’s\, 16440 S Tamiami Trail\, Fort Myers\, 33908\, United States
CATEGORIES:FUN,KARAOKE
ATTACH;FMTTYPE=image/jpeg:https://www.mangoritasfmb.com/rita-content/uploads/2025/11/Travis-Toad-Karaoke-with-copy.jpg
END:VEVENT
BEGIN:VEVENT
DTSTART;TZID=America/New_York:20291219T180000
DTEND;TZID=America/New_York:20291219T210000
DTSTAMP:20260422T013154
CREATED:20251211T005803Z
LAST-MODIFIED:20260129T124615Z
UID:10001126-1892397600-1892408400@www.mangoritasfmb.com
SUMMARY:Karaoke with Travis "Toad"
DESCRIPTION:Bringing the best sound to karaoke!
URL:https://www.mangoritasfmb.com/event/karaoke-with-travis-toad-11/2029-12-19/
LOCATION:Mango Rita’s\, 16440 S Tamiami Trail\, Fort Myers\, 33908\, United States
CATEGORIES:FUN,KARAOKE
ATTACH;FMTTYPE=image/jpeg:https://www.mangoritasfmb.com/rita-content/uploads/2025/11/Travis-Toad-Karaoke-with-copy.jpg
END:VEVENT
BEGIN:VEVENT
DTSTART;TZID=America/New_York:20291226T180000
DTEND;TZID=America/New_York:20291226T210000
DTSTAMP:20260422T013154
CREATED:20251211T005803Z
LAST-MODIFIED:20260129T124615Z
UID:10001127-1893002400-1893013200@www.mangoritasfmb.com
SUMMARY:Karaoke with Travis "Toad"
DESCRIPTION:Bringing the best sound to karaoke!
URL:https://www.mangoritasfmb.com/event/karaoke-with-travis-toad-11/2029-12-26/
LOCATION:Mango Rita’s\, 16440 S Tamiami Trail\, Fort Myers\, 33908\, United States
CATEGORIES:FUN,KARAOKE
ATTACH;FMTTYPE=image/jpeg:https://www.mangoritasfmb.com/rita-content/uploads/2025/11/Travis-Toad-Karaoke-with-copy.jpg
END:VEVENT
END:VCALENDAR