BEGIN:VCALENDAR
VERSION:2.0
PRODID:-//Mango Rita&#039;s - ECPv6.15.20//NONSGML v1.0//EN
CALSCALE:GREGORIAN
METHOD:PUBLISH
X-ORIGINAL-URL:https://www.mangoritasfmb.com
X-WR-CALDESC:Events for Mango Rita&#039;s
REFRESH-INTERVAL;VALUE=DURATION:PT1H
X-Robots-Tag:noindex
X-PUBLISHED-TTL:PT1H
BEGIN:VTIMEZONE
TZID:America/New_York
BEGIN:DAYLIGHT
TZOFFSETFROM:-0500
TZOFFSETTO:-0400
TZNAME:EDT
DTSTART:20270314T070000
END:DAYLIGHT
BEGIN:STANDARD
TZOFFSETFROM:-0400
TZOFFSETTO:-0500
TZNAME:EST
DTSTART:20271107T060000
END:STANDARD
BEGIN:DAYLIGHT
TZOFFSETFROM:-0500
TZOFFSETTO:-0400
TZNAME:EDT
DTSTART:20280312T070000
END:DAYLIGHT
BEGIN:STANDARD
TZOFFSETFROM:-0400
TZOFFSETTO:-0500
TZNAME:EST
DTSTART:20281105T060000
END:STANDARD
BEGIN:DAYLIGHT
TZOFFSETFROM:-0500
TZOFFSETTO:-0400
TZNAME:EDT
DTSTART:20290311T070000
END:DAYLIGHT
BEGIN:STANDARD
TZOFFSETFROM:-0400
TZOFFSETTO:-0500
TZNAME:EST
DTSTART:20291104T060000
END:STANDARD
END:VTIMEZONE
BEGIN:VEVENT
DTSTART;TZID=America/New_York:20281101T180000
DTEND;TZID=America/New_York:20281101T210000
DTSTAMP:20260421T050914
CREATED:20251211T005803Z
LAST-MODIFIED:20260129T124615Z
UID:10001067-1856714400-1856725200@www.mangoritasfmb.com
SUMMARY:Karaoke with Travis "Toad"
DESCRIPTION:Bringing the best sound to karaoke!
URL:https://www.mangoritasfmb.com/event/karaoke-with-travis-toad-11/2028-11-01/
LOCATION:Mango Rita’s\, 16440 S Tamiami Trail\, Fort Myers\, 33908\, United States
CATEGORIES:FUN,KARAOKE
ATTACH;FMTTYPE=image/jpeg:https://www.mangoritasfmb.com/rita-content/uploads/2025/11/Travis-Toad-Karaoke-with-copy.jpg
END:VEVENT
BEGIN:VEVENT
DTSTART;TZID=America/New_York:20281108T180000
DTEND;TZID=America/New_York:20281108T210000
DTSTAMP:20260421T050914
CREATED:20251211T005803Z
LAST-MODIFIED:20260129T124615Z
UID:10001068-1857319200-1857330000@www.mangoritasfmb.com
SUMMARY:Karaoke with Travis "Toad"
DESCRIPTION:Bringing the best sound to karaoke!
URL:https://www.mangoritasfmb.com/event/karaoke-with-travis-toad-11/2028-11-08/
LOCATION:Mango Rita’s\, 16440 S Tamiami Trail\, Fort Myers\, 33908\, United States
CATEGORIES:FUN,KARAOKE
ATTACH;FMTTYPE=image/jpeg:https://www.mangoritasfmb.com/rita-content/uploads/2025/11/Travis-Toad-Karaoke-with-copy.jpg
END:VEVENT
BEGIN:VEVENT
DTSTART;TZID=America/New_York:20281115T180000
DTEND;TZID=America/New_York:20281115T210000
DTSTAMP:20260421T050914
CREATED:20251211T005803Z
LAST-MODIFIED:20260129T124615Z
UID:10001069-1857924000-1857934800@www.mangoritasfmb.com
SUMMARY:Karaoke with Travis "Toad"
DESCRIPTION:Bringing the best sound to karaoke!
URL:https://www.mangoritasfmb.com/event/karaoke-with-travis-toad-11/2028-11-15/
LOCATION:Mango Rita’s\, 16440 S Tamiami Trail\, Fort Myers\, 33908\, United States
CATEGORIES:FUN,KARAOKE
ATTACH;FMTTYPE=image/jpeg:https://www.mangoritasfmb.com/rita-content/uploads/2025/11/Travis-Toad-Karaoke-with-copy.jpg
END:VEVENT
BEGIN:VEVENT
DTSTART;TZID=America/New_York:20281122T180000
DTEND;TZID=America/New_York:20281122T210000
DTSTAMP:20260421T050914
CREATED:20251211T005803Z
LAST-MODIFIED:20260129T124615Z
UID:10001070-1858528800-1858539600@www.mangoritasfmb.com
SUMMARY:Karaoke with Travis "Toad"
DESCRIPTION:Bringing the best sound to karaoke!
URL:https://www.mangoritasfmb.com/event/karaoke-with-travis-toad-11/2028-11-22/
LOCATION:Mango Rita’s\, 16440 S Tamiami Trail\, Fort Myers\, 33908\, United States
CATEGORIES:FUN,KARAOKE
ATTACH;FMTTYPE=image/jpeg:https://www.mangoritasfmb.com/rita-content/uploads/2025/11/Travis-Toad-Karaoke-with-copy.jpg
END:VEVENT
BEGIN:VEVENT
DTSTART;TZID=America/New_York:20281129T180000
DTEND;TZID=America/New_York:20281129T210000
DTSTAMP:20260421T050914
CREATED:20251211T005803Z
LAST-MODIFIED:20260129T124615Z
UID:10001071-1859133600-1859144400@www.mangoritasfmb.com
SUMMARY:Karaoke with Travis "Toad"
DESCRIPTION:Bringing the best sound to karaoke!
URL:https://www.mangoritasfmb.com/event/karaoke-with-travis-toad-11/2028-11-29/
LOCATION:Mango Rita’s\, 16440 S Tamiami Trail\, Fort Myers\, 33908\, United States
CATEGORIES:FUN,KARAOKE
ATTACH;FMTTYPE=image/jpeg:https://www.mangoritasfmb.com/rita-content/uploads/2025/11/Travis-Toad-Karaoke-with-copy.jpg
END:VEVENT
END:VCALENDAR