BEGIN:VCALENDAR
VERSION:2.0
PRODID:-//Mango Rita&#039;s - ECPv6.15.20//NONSGML v1.0//EN
CALSCALE:GREGORIAN
METHOD:PUBLISH
X-ORIGINAL-URL:https://www.mangoritasfmb.com
X-WR-CALDESC:Events for Mango Rita&#039;s
REFRESH-INTERVAL;VALUE=DURATION:PT1H
X-Robots-Tag:noindex
X-PUBLISHED-TTL:PT1H
BEGIN:VTIMEZONE
TZID:America/New_York
BEGIN:DAYLIGHT
TZOFFSETFROM:-0500
TZOFFSETTO:-0400
TZNAME:EDT
DTSTART:20270314T070000
END:DAYLIGHT
BEGIN:STANDARD
TZOFFSETFROM:-0400
TZOFFSETTO:-0500
TZNAME:EST
DTSTART:20271107T060000
END:STANDARD
BEGIN:DAYLIGHT
TZOFFSETFROM:-0500
TZOFFSETTO:-0400
TZNAME:EDT
DTSTART:20280312T070000
END:DAYLIGHT
BEGIN:STANDARD
TZOFFSETFROM:-0400
TZOFFSETTO:-0500
TZNAME:EST
DTSTART:20281105T060000
END:STANDARD
BEGIN:DAYLIGHT
TZOFFSETFROM:-0500
TZOFFSETTO:-0400
TZNAME:EDT
DTSTART:20290311T070000
END:DAYLIGHT
BEGIN:STANDARD
TZOFFSETFROM:-0400
TZOFFSETTO:-0500
TZNAME:EST
DTSTART:20291104T060000
END:STANDARD
END:VTIMEZONE
BEGIN:VEVENT
DTSTART;TZID=America/New_York:20280105T180000
DTEND;TZID=America/New_York:20280105T210000
DTSTAMP:20260420T131318
CREATED:20251211T005803Z
LAST-MODIFIED:20260129T124615Z
UID:10001024-1830708000-1830718800@www.mangoritasfmb.com
SUMMARY:Karaoke with Travis "Toad"
DESCRIPTION:Bringing the best sound to karaoke!
URL:https://www.mangoritasfmb.com/event/karaoke-with-travis-toad-11/2028-01-05/
LOCATION:Mango Rita’s\, 16440 S Tamiami Trail\, Fort Myers\, 33908\, United States
CATEGORIES:FUN,KARAOKE
ATTACH;FMTTYPE=image/jpeg:https://www.mangoritasfmb.com/rita-content/uploads/2025/11/Travis-Toad-Karaoke-with-copy.jpg
END:VEVENT
BEGIN:VEVENT
DTSTART;TZID=America/New_York:20280112T180000
DTEND;TZID=America/New_York:20280112T210000
DTSTAMP:20260420T131318
CREATED:20251211T005803Z
LAST-MODIFIED:20260129T124615Z
UID:10001025-1831312800-1831323600@www.mangoritasfmb.com
SUMMARY:Karaoke with Travis "Toad"
DESCRIPTION:Bringing the best sound to karaoke!
URL:https://www.mangoritasfmb.com/event/karaoke-with-travis-toad-11/2028-01-12/
LOCATION:Mango Rita’s\, 16440 S Tamiami Trail\, Fort Myers\, 33908\, United States
CATEGORIES:FUN,KARAOKE
ATTACH;FMTTYPE=image/jpeg:https://www.mangoritasfmb.com/rita-content/uploads/2025/11/Travis-Toad-Karaoke-with-copy.jpg
END:VEVENT
BEGIN:VEVENT
DTSTART;TZID=America/New_York:20280119T180000
DTEND;TZID=America/New_York:20280119T210000
DTSTAMP:20260420T131318
CREATED:20251211T005803Z
LAST-MODIFIED:20260129T124615Z
UID:10001026-1831917600-1831928400@www.mangoritasfmb.com
SUMMARY:Karaoke with Travis "Toad"
DESCRIPTION:Bringing the best sound to karaoke!
URL:https://www.mangoritasfmb.com/event/karaoke-with-travis-toad-11/2028-01-19/
LOCATION:Mango Rita’s\, 16440 S Tamiami Trail\, Fort Myers\, 33908\, United States
CATEGORIES:FUN,KARAOKE
ATTACH;FMTTYPE=image/jpeg:https://www.mangoritasfmb.com/rita-content/uploads/2025/11/Travis-Toad-Karaoke-with-copy.jpg
END:VEVENT
BEGIN:VEVENT
DTSTART;TZID=America/New_York:20280126T180000
DTEND;TZID=America/New_York:20280126T210000
DTSTAMP:20260420T131318
CREATED:20251211T005803Z
LAST-MODIFIED:20260129T124615Z
UID:10001027-1832522400-1832533200@www.mangoritasfmb.com
SUMMARY:Karaoke with Travis "Toad"
DESCRIPTION:Bringing the best sound to karaoke!
URL:https://www.mangoritasfmb.com/event/karaoke-with-travis-toad-11/2028-01-26/
LOCATION:Mango Rita’s\, 16440 S Tamiami Trail\, Fort Myers\, 33908\, United States
CATEGORIES:FUN,KARAOKE
ATTACH;FMTTYPE=image/jpeg:https://www.mangoritasfmb.com/rita-content/uploads/2025/11/Travis-Toad-Karaoke-with-copy.jpg
END:VEVENT
END:VCALENDAR