BEGIN:VCALENDAR
VERSION:2.0
PRODID:-//Mango Rita&#039;s - ECPv6.15.20//NONSGML v1.0//EN
CALSCALE:GREGORIAN
METHOD:PUBLISH
X-ORIGINAL-URL:https://www.mangoritasfmb.com
X-WR-CALDESC:Events for Mango Rita&#039;s
REFRESH-INTERVAL;VALUE=DURATION:PT1H
X-Robots-Tag:noindex
X-PUBLISHED-TTL:PT1H
BEGIN:VTIMEZONE
TZID:America/New_York
BEGIN:DAYLIGHT
TZOFFSETFROM:-0500
TZOFFSETTO:-0400
TZNAME:EDT
DTSTART:20250309T070000
END:DAYLIGHT
BEGIN:STANDARD
TZOFFSETFROM:-0400
TZOFFSETTO:-0500
TZNAME:EST
DTSTART:20251102T060000
END:STANDARD
BEGIN:DAYLIGHT
TZOFFSETFROM:-0500
TZOFFSETTO:-0400
TZNAME:EDT
DTSTART:20260308T070000
END:DAYLIGHT
BEGIN:STANDARD
TZOFFSETFROM:-0400
TZOFFSETTO:-0500
TZNAME:EST
DTSTART:20261101T060000
END:STANDARD
BEGIN:DAYLIGHT
TZOFFSETFROM:-0500
TZOFFSETTO:-0400
TZNAME:EDT
DTSTART:20270314T070000
END:DAYLIGHT
BEGIN:STANDARD
TZOFFSETFROM:-0400
TZOFFSETTO:-0500
TZNAME:EST
DTSTART:20271107T060000
END:STANDARD
END:VTIMEZONE
BEGIN:VEVENT
DTSTART;TZID=America/New_York:20260805T180000
DTEND;TZID=America/New_York:20260805T210000
DTSTAMP:20260419T103205
CREATED:20251211T005803Z
LAST-MODIFIED:20260129T124615Z
UID:10000950-1785952800-1785963600@www.mangoritasfmb.com
SUMMARY:Karaoke with Travis "Toad"
DESCRIPTION:Bringing the best sound to karaoke!
URL:https://www.mangoritasfmb.com/event/karaoke-with-travis-toad-11/2026-08-05/
LOCATION:Mango Rita’s\, 16440 S Tamiami Trail\, Fort Myers\, 33908\, United States
CATEGORIES:FUN,KARAOKE
ATTACH;FMTTYPE=image/jpeg:https://www.mangoritasfmb.com/rita-content/uploads/2025/11/Travis-Toad-Karaoke-with-copy.jpg
END:VEVENT
BEGIN:VEVENT
DTSTART;TZID=America/New_York:20260812T180000
DTEND;TZID=America/New_York:20260812T210000
DTSTAMP:20260419T103205
CREATED:20251211T005803Z
LAST-MODIFIED:20260129T124615Z
UID:10000951-1786557600-1786568400@www.mangoritasfmb.com
SUMMARY:Karaoke with Travis "Toad"
DESCRIPTION:Bringing the best sound to karaoke!
URL:https://www.mangoritasfmb.com/event/karaoke-with-travis-toad-11/2026-08-12/
LOCATION:Mango Rita’s\, 16440 S Tamiami Trail\, Fort Myers\, 33908\, United States
CATEGORIES:FUN,KARAOKE
ATTACH;FMTTYPE=image/jpeg:https://www.mangoritasfmb.com/rita-content/uploads/2025/11/Travis-Toad-Karaoke-with-copy.jpg
END:VEVENT
BEGIN:VEVENT
DTSTART;TZID=America/New_York:20260819T180000
DTEND;TZID=America/New_York:20260819T210000
DTSTAMP:20260419T103205
CREATED:20251211T005803Z
LAST-MODIFIED:20260129T124615Z
UID:10000952-1787162400-1787173200@www.mangoritasfmb.com
SUMMARY:Karaoke with Travis "Toad"
DESCRIPTION:Bringing the best sound to karaoke!
URL:https://www.mangoritasfmb.com/event/karaoke-with-travis-toad-11/2026-08-19/
LOCATION:Mango Rita’s\, 16440 S Tamiami Trail\, Fort Myers\, 33908\, United States
CATEGORIES:FUN,KARAOKE
ATTACH;FMTTYPE=image/jpeg:https://www.mangoritasfmb.com/rita-content/uploads/2025/11/Travis-Toad-Karaoke-with-copy.jpg
END:VEVENT
BEGIN:VEVENT
DTSTART;TZID=America/New_York:20260826T180000
DTEND;TZID=America/New_York:20260826T210000
DTSTAMP:20260419T103205
CREATED:20251211T005803Z
LAST-MODIFIED:20260129T124615Z
UID:10000953-1787767200-1787778000@www.mangoritasfmb.com
SUMMARY:Karaoke with Travis "Toad"
DESCRIPTION:Bringing the best sound to karaoke!
URL:https://www.mangoritasfmb.com/event/karaoke-with-travis-toad-11/2026-08-26/
LOCATION:Mango Rita’s\, 16440 S Tamiami Trail\, Fort Myers\, 33908\, United States
CATEGORIES:FUN,KARAOKE
ATTACH;FMTTYPE=image/jpeg:https://www.mangoritasfmb.com/rita-content/uploads/2025/11/Travis-Toad-Karaoke-with-copy.jpg
END:VEVENT
END:VCALENDAR