BEGIN:VCALENDAR
VERSION:2.0
PRODID:-//Mango Rita&#039;s - ECPv6.15.20//NONSGML v1.0//EN
CALSCALE:GREGORIAN
METHOD:PUBLISH
X-ORIGINAL-URL:https://www.mangoritasfmb.com
X-WR-CALDESC:Events for Mango Rita&#039;s
REFRESH-INTERVAL;VALUE=DURATION:PT1H
X-Robots-Tag:noindex
X-PUBLISHED-TTL:PT1H
BEGIN:VTIMEZONE
TZID:America/New_York
BEGIN:DAYLIGHT
TZOFFSETFROM:-0500
TZOFFSETTO:-0400
TZNAME:EDT
DTSTART:20250309T070000
END:DAYLIGHT
BEGIN:STANDARD
TZOFFSETFROM:-0400
TZOFFSETTO:-0500
TZNAME:EST
DTSTART:20251102T060000
END:STANDARD
BEGIN:DAYLIGHT
TZOFFSETFROM:-0500
TZOFFSETTO:-0400
TZNAME:EDT
DTSTART:20260308T070000
END:DAYLIGHT
BEGIN:STANDARD
TZOFFSETFROM:-0400
TZOFFSETTO:-0500
TZNAME:EST
DTSTART:20261101T060000
END:STANDARD
BEGIN:DAYLIGHT
TZOFFSETFROM:-0500
TZOFFSETTO:-0400
TZNAME:EDT
DTSTART:20270314T070000
END:DAYLIGHT
BEGIN:STANDARD
TZOFFSETFROM:-0400
TZOFFSETTO:-0500
TZNAME:EST
DTSTART:20271107T060000
END:STANDARD
END:VTIMEZONE
BEGIN:VEVENT
DTSTART;TZID=America/New_York:20260724T203000
DTEND;TZID=America/New_York:20260724T203000
DTSTAMP:20260419T120003
CREATED:20260416T150948Z
LAST-MODIFIED:20260416T150948Z
UID:10001199-1784925000-1784925000@www.mangoritasfmb.com
SUMMARY:MAIDEN MANIA - AN IRON MAIDEN EXPERIENCE
DESCRIPTION:Purchase tickets Here! Must be 21 to enter. Doors Open at 6:30 PM. Come early and enjoy mouth watering food and cold drinks at Mango Rita’s Rhythm House served by the best and friendliest staff in the business. MAIDEN MANIA is a powerhouse tribute to the legendary Iron Maiden. Maiden Mania delivers an electrifying performance packed with the band’s biggest hits and fan-favorite deep cuts.
URL:https://www.mangoritasfmb.com/event/maiden-mania-an-iron-maiden-experience/
LOCATION:Mango Rita’s\, 16440 S Tamiami Trail\, Fort Myers\, 33908\, United States
CATEGORIES:DANCING,LIVE MUSIC,Rock and Roll,Tribute Band
ATTACH;FMTTYPE=image/jpeg:https://www.mangoritasfmb.com/rita-content/uploads/2026/04/Maiden-Mania-7-24-26.jpg
END:VEVENT
END:VCALENDAR