BEGIN:VCALENDAR
VERSION:2.0
PRODID:-//Mango Rita&#039;s - ECPv6.15.20//NONSGML v1.0//EN
CALSCALE:GREGORIAN
METHOD:PUBLISH
X-WR-CALNAME:Mango Rita&#039;s
X-ORIGINAL-URL:https://www.mangoritasfmb.com
X-WR-CALDESC:Events for Mango Rita&#039;s
REFRESH-INTERVAL;VALUE=DURATION:PT1H
X-Robots-Tag:noindex
X-PUBLISHED-TTL:PT1H
BEGIN:VTIMEZONE
TZID:America/New_York
BEGIN:DAYLIGHT
TZOFFSETFROM:-0500
TZOFFSETTO:-0400
TZNAME:EDT
DTSTART:20250309T070000
END:DAYLIGHT
BEGIN:STANDARD
TZOFFSETFROM:-0400
TZOFFSETTO:-0500
TZNAME:EST
DTSTART:20251102T060000
END:STANDARD
BEGIN:DAYLIGHT
TZOFFSETFROM:-0500
TZOFFSETTO:-0400
TZNAME:EDT
DTSTART:20260308T070000
END:DAYLIGHT
BEGIN:STANDARD
TZOFFSETFROM:-0400
TZOFFSETTO:-0500
TZNAME:EST
DTSTART:20261101T060000
END:STANDARD
BEGIN:DAYLIGHT
TZOFFSETFROM:-0500
TZOFFSETTO:-0400
TZNAME:EDT
DTSTART:20270314T070000
END:DAYLIGHT
BEGIN:STANDARD
TZOFFSETFROM:-0400
TZOFFSETTO:-0500
TZNAME:EST
DTSTART:20271107T060000
END:STANDARD
END:VTIMEZONE
BEGIN:VEVENT
DTSTART;TZID=America/New_York:20260717T203000
DTEND;TZID=America/New_York:20260717T203000
DTSTAMP:20260420T091549
CREATED:20260413T191104Z
LAST-MODIFIED:20260416T151440Z
UID:10000932-1784320200-1784320200@www.mangoritasfmb.com
SUMMARY:RED CORVETTE: A PRINCE TRIBUTE BAND from LAS VEGAS\, NV
DESCRIPTION:Purchase tickets Here! Must be 21 to enter. Doors Open at 6:30 PM. Come early and enjoy mouth watering food and cold drinks at Mango Rita’s Rhythm House served by the best and friendliest staff in the business.  All the way from Las Vegas\, NV – RED CORVETTE have been honoring that signature PRINCE sound for over 15 years\, and have performed over 1000 PRINCE tribute shows. RED CORVETTE is thee #1 PRINCE Tribute band in the country. Featuring members of KC and Sunshine band\, RED CORVETTE is tight and in the words of Prince: “Hits like a jack hammer!
URL:https://www.mangoritasfmb.com/event/red-corvette-a-prince-tribute-band-from-las-vegas-nv/
LOCATION:Mango Rita’s\, 16440 S Tamiami Trail\, Fort Myers\, 33908\, United States
CATEGORIES:LIVE MUSIC,Rock and Roll,Tribute Band
ATTACH;FMTTYPE=image/jpeg:https://www.mangoritasfmb.com/rita-content/uploads/2026/04/Red-Corvette-prince-tribute7-17-26.jpg
END:VEVENT
END:VCALENDAR