BEGIN:VCALENDAR
VERSION:2.0
PRODID:-//Mango Rita&#039;s - ECPv6.15.20//NONSGML v1.0//EN
CALSCALE:GREGORIAN
METHOD:PUBLISH
X-WR-CALNAME:Mango Rita&#039;s
X-ORIGINAL-URL:https://www.mangoritasfmb.com
X-WR-CALDESC:Events for Mango Rita&#039;s
REFRESH-INTERVAL;VALUE=DURATION:PT1H
X-Robots-Tag:noindex
X-PUBLISHED-TTL:PT1H
BEGIN:VTIMEZONE
TZID:America/New_York
BEGIN:DAYLIGHT
TZOFFSETFROM:-0500
TZOFFSETTO:-0400
TZNAME:EDT
DTSTART:20250309T070000
END:DAYLIGHT
BEGIN:STANDARD
TZOFFSETFROM:-0400
TZOFFSETTO:-0500
TZNAME:EST
DTSTART:20251102T060000
END:STANDARD
BEGIN:DAYLIGHT
TZOFFSETFROM:-0500
TZOFFSETTO:-0400
TZNAME:EDT
DTSTART:20260308T070000
END:DAYLIGHT
BEGIN:STANDARD
TZOFFSETFROM:-0400
TZOFFSETTO:-0500
TZNAME:EST
DTSTART:20261101T060000
END:STANDARD
BEGIN:DAYLIGHT
TZOFFSETFROM:-0500
TZOFFSETTO:-0400
TZNAME:EDT
DTSTART:20270314T070000
END:DAYLIGHT
BEGIN:STANDARD
TZOFFSETFROM:-0400
TZOFFSETTO:-0500
TZNAME:EST
DTSTART:20271107T060000
END:STANDARD
END:VTIMEZONE
BEGIN:VEVENT
DTSTART;TZID=America/New_York:20260501T200000
DTEND;TZID=America/New_York:20260501T200000
DTSTAMP:20260420T062909
CREATED:20260226T133017Z
LAST-MODIFIED:20260407T133018Z
UID:10000915-1777665600-1777665600@www.mangoritasfmb.com
SUMMARY:SMOKING RENEGADE - A tribute to BOSTON and STYX - 2 tributes to 2 legendary bands in one night!
DESCRIPTION:Purchase tickets Here! Must be 21 to enter. Doors Open at 6:00 PM. Come early and enjoy mouth watering food and cold drinks at Mango Rita’s Rhythm House served by the best and friendliest staff in the business. SMOKING RENEGADE brings spot on performances with tributes to BOSTON and STYX. The show is loaded with hit after hit. 
URL:https://www.mangoritasfmb.com/event/smoking-renegade-a-tribute-to-boston-sytx-2-tributes-to-2-legendary-bands-in-one-night/
LOCATION:Mango Rita’s\, 16440 S Tamiami Trail\, Fort Myers\, 33908\, United States
CATEGORIES:DANCING,LIVE MUSIC,Rock and Roll,Tribute Band
ATTACH;FMTTYPE=image/jpeg:https://www.mangoritasfmb.com/rita-content/uploads/2026/02/smoking_Renegade-5-01-26.jpg
END:VEVENT
BEGIN:VEVENT
DTSTART;TZID=America/New_York:20260509T203000
DTEND;TZID=America/New_York:20260509T203000
DTSTAMP:20260420T062909
CREATED:20260224T124932Z
LAST-MODIFIED:20260224T125002Z
UID:10000909-1778358600-1778358600@www.mangoritasfmb.com
SUMMARY:Carpool - Ultimate Cars Tribute
DESCRIPTION:Purchase tickets Here! Must be 21 to enter. Doors Open at 6:30 PM. Come early and enjoy mouth watering food and cold drinks at Mango Rita’s Rhythm House served by the best and friendliest staff in the business. CARPOOL – ULTIMATE CARS TRIBUTE BAND recreates the sound\, feel\, look and vibe that made the Cars world famous.
URL:https://www.mangoritasfmb.com/event/carpool-ultimate-cars-tribute/
LOCATION:Mango Rita’s\, 16440 S Tamiami Trail\, Fort Myers\, 33908\, United States
CATEGORIES:DANCING,LIVE MUSIC,Rock and Roll,Tribute Band
ATTACH;FMTTYPE=image/jpeg:https://www.mangoritasfmb.com/rita-content/uploads/2026/02/Carpool-cars-tribute-band-5-9-26.jpg
END:VEVENT
BEGIN:VEVENT
DTSTART;TZID=America/New_York:20260515T203000
DTEND;TZID=America/New_York:20260515T203000
DTSTAMP:20260420T062909
CREATED:20260224T130025Z
LAST-MODIFIED:20260224T130025Z
UID:10000912-1778877000-1778877000@www.mangoritasfmb.com
SUMMARY:Never Stop Believin' - The Essential Journey Experience
DESCRIPTION:Purchase tickets Here! Must be 21 to enter. Doors Open at 6:30 PM. Come early and enjoy mouth watering food and cold drinks at Mango Rita’s Rhythm House served by the best and friendliest staff in the business. NEVER STOP BELIEVIN’ brings their critically acclaimed tribute to Journey to Mango Rita’s Rhythm House for an intimate\, high-energy concert experience. 
URL:https://www.mangoritasfmb.com/event/never-stop-believin-the-essential-journey-experience/
LOCATION:Mango Rita’s\, 16440 S Tamiami Trail\, Fort Myers\, 33908\, United States
CATEGORIES:DANCING,LIVE MUSIC,Rock and Roll,Tribute Band
ATTACH;FMTTYPE=image/jpeg:https://www.mangoritasfmb.com/rita-content/uploads/2026/02/Journey-experience-5-15-26.jpg
END:VEVENT
BEGIN:VEVENT
DTSTART;TZID=America/New_York:20260522T203000
DTEND;TZID=America/New_York:20260522T203000
DTSTAMP:20260420T062909
CREATED:20260304T124024Z
LAST-MODIFIED:20260304T124024Z
UID:10000917-1779481800-1779481800@www.mangoritasfmb.com
SUMMARY:Kiss Alive – The Tribute
DESCRIPTION:Purchase tickets Here! Must be 21 to enter. Doors Open at 6:30 PM. Come early and enjoy mouth watering food and cold drinks at Mango Rita’s Rhythm House served by the best and friendliest staff in the business. KISS ALIVE is the country’s premier KISS tribute act. KISS ALIVE delivers KISS tunes to perfection. The theatrics and the songs are all spot on!!!
URL:https://www.mangoritasfmb.com/event/kiss-alive-the-tribute/
LOCATION:Mango Rita’s\, 16440 S Tamiami Trail\, Fort Myers\, 33908\, United States
CATEGORIES:DANCING,LIVE MUSIC,Rock and Roll,Tribute Band
ATTACH;FMTTYPE=image/jpeg:https://www.mangoritasfmb.com/rita-content/uploads/2026/03/Kiss-Alive-5-22-26.jpg
END:VEVENT
BEGIN:VEVENT
DTSTART;TZID=America/New_York:20260523T203000
DTEND;TZID=America/New_York:20260523T203000
DTSTAMP:20260420T062909
CREATED:20260318T133141Z
LAST-MODIFIED:20260318T133141Z
UID:10000920-1779568200-1779568200@www.mangoritasfmb.com
SUMMARY:Slippery When Wet - The Ultimate Bon Jovi Tribute
DESCRIPTION:Purchase tickets Here! Must be 21 to enter. Doors Open at 6:30 PM. Come early and enjoy mouth watering food and cold drinks at Mango Rita’s Rhythm House served by the best and friendliest staff in the business. International Touring Act “SLIPPERY WHEN WET – THE ULTIMATE BON JOVI TRIBUTE” is coming back to Mango Rita’s Rhythm House. You might remember them from the hit show “Clash of the Cover Bands”.
URL:https://www.mangoritasfmb.com/event/slippery-when-wet-the-ultimate-bon-jovi-tribute/
LOCATION:Mango Rita’s\, 16440 S Tamiami Trail\, Fort Myers\, 33908\, United States
CATEGORIES:LIVE MUSIC,Rock and Roll,Tribute Band
ATTACH;FMTTYPE=image/jpeg:https://www.mangoritasfmb.com/rita-content/uploads/2026/03/Bon-Jovi-Slippery_when_wet-5-23-26.jpg
END:VEVENT
BEGIN:VEVENT
DTSTART;TZID=America/New_York:20260524T190000
DTEND;TZID=America/New_York:20260524T190000
DTSTAMP:20260420T062909
CREATED:20260304T123448Z
LAST-MODIFIED:20260416T145339Z
UID:10000916-1779649200-1779649200@www.mangoritasfmb.com
SUMMARY:SUNDAY FUNDAY with HAIRDAZE – The 80’s Rock Experience
DESCRIPTION:Purchase tickets Here! Must be 21 to enter. Doors Open at 5:00 PM. Come early and enjoy mouth watering food and cold drinks at Mango Rita’s Rhythm House served by the best and friendliest staff in the business. Hairdaze performs the best of 80’s Rock from such iconic groups as Guns N Roses\, Bon Jovi\, Van Halen\, Ratt\, Motley Crue\, Journey\, Night Ranger\, Poison\, and so many more!!! WHAT DO WE WANT? WE WANT HAIRDAZE!!!
URL:https://www.mangoritasfmb.com/event/sunday-funday-with-hairdaze-the-80s-rock-experience/
LOCATION:Mango Rita’s\, 16440 S Tamiami Trail\, Fort Myers\, 33908\, United States
CATEGORIES:DANCING,LIVE MUSIC,Rock and Roll,Tribute Band
ATTACH;FMTTYPE=image/jpeg:https://www.mangoritasfmb.com/rita-content/uploads/2026/03/Hairdaze-80s-rock-5-23-26.jpg
END:VEVENT
BEGIN:VEVENT
DTSTART;TZID=America/New_York:20260529T200000
DTEND;TZID=America/New_York:20260529T200000
DTSTAMP:20260420T062909
CREATED:20260323T122019Z
LAST-MODIFIED:20260323T122019Z
UID:10000921-1780084800-1780084800@www.mangoritasfmb.com
SUMMARY:The Best of Rod
DESCRIPTION:Purchase tickets Here! Must be 21 to enter. Doors Open at 6:00 PM. Come early and enjoy mouth watering food and cold drinks at Mango Rita’s Rhythm House served by the best and friendliest staff in the business. A World Renowned Tribute to the legendary ROD STEWART featuring Barry Britton as Rod. Barry has been performing a spot on Rod Stewart tribute for over 20 years all over the world which included a Las Vegas residency.
URL:https://www.mangoritasfmb.com/event/the-best-of-rod-2/
LOCATION:Mango Rita’s\, 16440 S Tamiami Trail\, Fort Myers\, 33908\, United States
CATEGORIES:LIVE MUSIC,Rock and Roll,Tribute Band
ATTACH;FMTTYPE=image/jpeg:https://www.mangoritasfmb.com/rita-content/uploads/2026/03/Best_of-Rod-5-26-26.jpg
END:VEVENT
END:VCALENDAR