BEGIN:VCALENDAR
VERSION:2.0
PRODID:-//Mango Rita&#039;s - ECPv6.15.20//NONSGML v1.0//EN
CALSCALE:GREGORIAN
METHOD:PUBLISH
X-ORIGINAL-URL:https://www.mangoritasfmb.com
X-WR-CALDESC:Events for Mango Rita&#039;s
REFRESH-INTERVAL;VALUE=DURATION:PT1H
X-Robots-Tag:noindex
X-PUBLISHED-TTL:PT1H
BEGIN:VTIMEZONE
TZID:America/New_York
BEGIN:DAYLIGHT
TZOFFSETFROM:-0500
TZOFFSETTO:-0400
TZNAME:EDT
DTSTART:20250309T070000
END:DAYLIGHT
BEGIN:STANDARD
TZOFFSETFROM:-0400
TZOFFSETTO:-0500
TZNAME:EST
DTSTART:20251102T060000
END:STANDARD
BEGIN:DAYLIGHT
TZOFFSETFROM:-0500
TZOFFSETTO:-0400
TZNAME:EDT
DTSTART:20260308T070000
END:DAYLIGHT
BEGIN:STANDARD
TZOFFSETFROM:-0400
TZOFFSETTO:-0500
TZNAME:EST
DTSTART:20261101T060000
END:STANDARD
BEGIN:DAYLIGHT
TZOFFSETFROM:-0500
TZOFFSETTO:-0400
TZNAME:EDT
DTSTART:20270314T070000
END:DAYLIGHT
BEGIN:STANDARD
TZOFFSETFROM:-0400
TZOFFSETTO:-0500
TZNAME:EST
DTSTART:20271107T060000
END:STANDARD
END:VTIMEZONE
BEGIN:VEVENT
DTSTART;TZID=America/New_York:20260215T190000
DTEND;TZID=America/New_York:20260215T190000
DTSTAMP:20260420T045537
CREATED:20251120T182017Z
LAST-MODIFIED:20260205T121235Z
UID:10000026-1771182000-1771182000@www.mangoritasfmb.com
SUMMARY:The Best of Rod
DESCRIPTION:Purchase tickets Here! Must be 21 to enter. Doors Open at 5:00PM. Come early and enjoy mouthwatering food and cold drinks from Mango Rita’s Rhythm House’s special menu served by the best and friendliest staff in the business. A Tribute to the legendary ROD STEWART featuring Barry Britton as Rod. Barry has been performing a Rod Stewart tribute for over 20 years.
URL:https://www.mangoritasfmb.com/event/the-best-of-rod/
LOCATION:Mango Rita’s\, 16440 S Tamiami Trail\, Fort Myers\, 33908\, United States
CATEGORIES:DANCING,FUN,Rock and Roll,Tribute Band
ATTACH;FMTTYPE=image/jpeg:https://www.mangoritasfmb.com/rita-content/uploads/2025/11/Rod-Stewrt-tribute-2-15-26.jpg
END:VEVENT
BEGIN:VEVENT
DTSTART;TZID=America/New_York:20260220T203000
DTEND;TZID=America/New_York:20260220T203000
DTSTAMP:20260420T045537
CREATED:20251126T235045Z
LAST-MODIFIED:20260205T122022Z
UID:10000031-1771619400-1771619400@www.mangoritasfmb.com
SUMMARY:The Dirtt – A Motley Crue Experience
DESCRIPTION:Purchase tickets Here! Must be 21 to enter. Doors Open at 6:00 PM. Come early and enjoy mouth watering food and cold drinks at Mango Rita’s Rhythm House served by the best and friendliest staff in the business. THE DIRTT brings the wild energy and iconic hits of MOTLEY CRUE to life with an electrifying stage show that captures the essence of one of the most legendary bands in rock history.
URL:https://www.mangoritasfmb.com/event/the-dirtt-a-motley-crue-experience/
LOCATION:Mango Rita’s\, 16440 S Tamiami Trail\, Fort Myers\, 33908\, United States
CATEGORIES:DANCING,LIVE MUSIC,Rock and Roll,Tribute Band
ATTACH;FMTTYPE=image/jpeg:https://www.mangoritasfmb.com/rita-content/uploads/2025/11/the-dirt-motley-crue-2-20-26.jpg
END:VEVENT
BEGIN:VEVENT
DTSTART;TZID=America/New_York:20260227T200000
DTEND;TZID=America/New_York:20260227T200000
DTSTAMP:20260420T045537
CREATED:20251128T061550Z
LAST-MODIFIED:20260129T123019Z
UID:10000810-1772222400-1772222400@www.mangoritasfmb.com
SUMMARY:NIGHTRAIN – THE GUNS N ROSES TRIBUTE EXPERIENCE
DESCRIPTION:Purchase tickets Here! Must be 21 to enter. Doors Open at 6:00 PM. Come early and enjoy mouth watering food and cold drinks at Mango Rita’s Rhythm House served by the best and friendliest staff in the business. NIGHTRAIN – The GUNS N ROSES Tribute Experience brings the band that changed the music world alive!!! Icons of the Rock N Roll scene and LA’s Sunset Strip\, GUNS N ROSES  brought the 80’s to a whole new level.
URL:https://www.mangoritasfmb.com/event/nightrain-the-guns-n-roses-tribute-experience/
LOCATION:Mango Rita’s\, 16440 S Tamiami Trail\, Fort Myers\, 33908\, United States
CATEGORIES:DANCING,FUN,LIVE MUSIC,Rock and Roll,Tribute Band
ATTACH;FMTTYPE=image/jpeg:https://www.mangoritasfmb.com/rita-content/uploads/2025/11/Nighttrain-2-27-26.jpg
END:VEVENT
END:VCALENDAR