BEGIN:VCALENDAR
VERSION:2.0
PRODID:-//Mango Rita&#039;s - ECPv6.15.20//NONSGML v1.0//EN
CALSCALE:GREGORIAN
METHOD:PUBLISH
X-WR-CALNAME:Mango Rita&#039;s
X-ORIGINAL-URL:https://www.mangoritasfmb.com
X-WR-CALDESC:Events for Mango Rita&#039;s
REFRESH-INTERVAL;VALUE=DURATION:PT1H
X-Robots-Tag:noindex
X-PUBLISHED-TTL:PT1H
BEGIN:VTIMEZONE
TZID:America/New_York
BEGIN:DAYLIGHT
TZOFFSETFROM:-0500
TZOFFSETTO:-0400
TZNAME:EDT
DTSTART:20250309T070000
END:DAYLIGHT
BEGIN:STANDARD
TZOFFSETFROM:-0400
TZOFFSETTO:-0500
TZNAME:EST
DTSTART:20251102T060000
END:STANDARD
BEGIN:DAYLIGHT
TZOFFSETFROM:-0500
TZOFFSETTO:-0400
TZNAME:EDT
DTSTART:20260308T070000
END:DAYLIGHT
BEGIN:STANDARD
TZOFFSETFROM:-0400
TZOFFSETTO:-0500
TZNAME:EST
DTSTART:20261101T060000
END:STANDARD
BEGIN:DAYLIGHT
TZOFFSETFROM:-0500
TZOFFSETTO:-0400
TZNAME:EDT
DTSTART:20270314T070000
END:DAYLIGHT
BEGIN:STANDARD
TZOFFSETFROM:-0400
TZOFFSETTO:-0500
TZNAME:EST
DTSTART:20271107T060000
END:STANDARD
END:VTIMEZONE
BEGIN:VEVENT
DTSTART;TZID=America/New_York:20260617T170000
DTEND;TZID=America/New_York:20260617T210000
DTSTAMP:20260419T195727
CREATED:20250605T003719Z
LAST-MODIFIED:20260129T121936Z
UID:10000309-1781715600-1781730000@www.mangoritasfmb.com
SUMMARY:Poker Wednesdays with Devin!
DESCRIPTION:Poker Wednesdays at 5pm with Devin at ALL IN . COME EARLY and JOIN US FOR DINNER. FANTASTIC FOOD from a SPECIAL MENU. Come play the tournament style and enjoy hump day.
URL:https://www.mangoritasfmb.com/event/poker-wednesdays-2026-02-25/2026-06-17/
LOCATION:Mango Rita’s\, 16440 S Tamiami Trail\, Fort Myers\, 33908\, United States
CATEGORIES:FUN,GAMES
ATTACH;FMTTYPE=image/jpeg:https://www.mangoritasfmb.com/rita-content/uploads/2024/09/devinpokerimage.jpg
END:VEVENT
BEGIN:VEVENT
DTSTART;TZID=America/New_York:20260616T180000
DTEND;TZID=America/New_York:20260616T180000
DTSTAMP:20260419T195727
CREATED:20250604T233504Z
LAST-MODIFIED:20260202T145743Z
UID:10000566-1781632800-1781632800@www.mangoritasfmb.com
SUMMARY:World of Pearl
DESCRIPTION:Join Pearl every Tuesday for a soulful night of Motown\, Blues\, and R&B hits! Smooth sound\, timeless tunes\, and great company—only at Mango Rita’s Rhythm House. COME EARLY and JOIN US FOR DINNER. FANTASTIC FOOD from a SPECIAL MENU.
URL:https://www.mangoritasfmb.com/event/world-of-pearl-3-2026-02-24/2026-06-16/
LOCATION:Mango Rita’s\, 16440 S Tamiami Trail\, Fort Myers\, 33908\, United States
CATEGORIES:DANCING,FUN,LIVE MUSIC,Local Band
ATTACH;FMTTYPE=image/jpeg:https://www.mangoritasfmb.com/rita-content/uploads/2022/12/PEARL4.jpg
END:VEVENT
BEGIN:VEVENT
DTSTART;TZID=America/New_York:20260615T190000
DTEND;TZID=America/New_York:20260615T210000
DTSTAMP:20260419T195727
CREATED:20250604T232117Z
LAST-MODIFIED:20260129T121735Z
UID:10000051-1781550000-1781557200@www.mangoritasfmb.com
SUMMARY:Singo
DESCRIPTION:Singo is a musical twist on Bingo—songs play\, and your card is filled with song titles. Hear a song that’s on your card? Mark it off! Sing along\, dance\, and enjoy the vibe. It’s free to play\, and you could win gift certificates for your next fun night at Mango Rita’s Rhythm House! COME EARLY and JOIN US FOR DINNER. FANTASTIC FOOD from a SPECIAL MENU.
URL:https://www.mangoritasfmb.com/event/singo-2026-02-23/2026-06-15/
LOCATION:Mango Rita’s\, 16440 S Tamiami Trail\, Fort Myers\, 33908\, United States
CATEGORIES:FUN,GAMES
ATTACH;FMTTYPE=image/jpeg:https://www.mangoritasfmb.com/rita-content/uploads/2023/01/SINGO-e1676553924594.jpg
END:VEVENT
BEGIN:VEVENT
DTSTART;TZID=America/New_York:20260614T210000
DTEND;TZID=America/New_York:20260614T210000
DTSTAMP:20260419T195727
CREATED:20260316T130020Z
LAST-MODIFIED:20260316T130020Z
UID:10000919-1781470800-1781470800@www.mangoritasfmb.com
SUMMARY:L.A. GUNS with Tracii Guns and Phil Lewis
DESCRIPTION:Purchase tickets Here! Must be 21 to enter. Doors Open at 7:00 PM. Come early and enjoy mouth watering food and cold drinks at Mango Rita’s Rhythm House served by the best and friendliest staff in the business.  Description: Keeping the 80’s alive with MTV sensation L.A. GUNS featuring Tracii Guns and Phil Lewis.
URL:https://www.mangoritasfmb.com/event/l-a-guns-with-tracii-guns-and-phil-lewis/
LOCATION:Mango Rita’s\, 16440 S Tamiami Trail\, Fort Myers\, 33908\, United States
CATEGORIES:DANCING,LIVE MUSIC,Rock and Roll,Tribute Band
ATTACH;FMTTYPE=image/jpeg:https://www.mangoritasfmb.com/rita-content/uploads/2026/03/LA-GUNS-061426.jpg
END:VEVENT
BEGIN:VEVENT
DTSTART;TZID=America/New_York:20260613T200000
DTEND;TZID=America/New_York:20260613T200000
DTSTAMP:20260419T195727
CREATED:20260401T142449Z
LAST-MODIFIED:20260401T142449Z
UID:10000928-1781380800-1781380800@www.mangoritasfmb.com
SUMMARY:The Freebirds - A Tribute to Southern Rock Legends LYNYRD SKYNYRD
DESCRIPTION:Purchase tickets Here! Must be 21 to enter. Doors Open at 6:00 PM. Come early and enjoy mouth watering food and cold drinks at Mango Rita’s Rhythm House served by the best and friendliest staff in the business. THE FREEBIRDS is a true LYNYRD SKYNRD EXPERIENCE. Dedicated to faithfully recreating the legendary sound and electrifying stage presence of the original icons.
URL:https://www.mangoritasfmb.com/event/the-freebirds-a-tribute-to-southern-rock-legends-lynyrd-skynyrd/
LOCATION:Mango Rita’s\, 16440 S Tamiami Trail\, Fort Myers\, 33908\, United States
CATEGORIES:LIVE MUSIC,Rock and Roll,Tribute Band
ATTACH;FMTTYPE=image/jpeg:https://www.mangoritasfmb.com/rita-content/uploads/2026/04/The-Freebirds-6-13-26.jpg
END:VEVENT
BEGIN:VEVENT
DTSTART;TZID=America/New_York:20260612T203000
DTEND;TZID=America/New_York:20260612T203000
DTSTAMP:20260419T195727
CREATED:20260330T141036Z
LAST-MODIFIED:20260331T122517Z
UID:10000923-1781296200-1781296200@www.mangoritasfmb.com
SUMMARY:PANDORA'S BOX - THE NATION'S PREMIERE AEROSMITH TOURING TRIBUTE
DESCRIPTION:Purchase tickets Here! Must be 21 to enter. Doors Open at 6:30 PM. Come early and enjoy mouth watering food and cold drinks at Mango Rita’s Rhythm House served by the best and friendliest staff in the business. National Touring Aerosmith Tribute PANDORA’S BOX returns to Mango Rita’s Rhythm House performing all your favorite Aerosmith Hits
URL:https://www.mangoritasfmb.com/event/pandoras-box-the-nations-premiere-aerosmith-touring-tribute/
LOCATION:Mango Rita’s\, 16440 S Tamiami Trail\, Fort Myers\, 33908\, United States
CATEGORIES:LIVE MUSIC,Rock and Roll,Tribute Band
ATTACH;FMTTYPE=image/jpeg:https://www.mangoritasfmb.com/rita-content/uploads/2026/03/Pandoras_box_1080x1080.jpg
END:VEVENT
BEGIN:VEVENT
DTSTART;TZID=America/New_York:20260610T180000
DTEND;TZID=America/New_York:20260610T210000
DTSTAMP:20260419T195727
CREATED:20251211T005803Z
LAST-MODIFIED:20260129T124615Z
UID:10000942-1781114400-1781125200@www.mangoritasfmb.com
SUMMARY:Karaoke with Travis "Toad"
DESCRIPTION:Bringing the best sound to karaoke!
URL:https://www.mangoritasfmb.com/event/karaoke-with-travis-toad-11/2026-06-10/
LOCATION:Mango Rita’s\, 16440 S Tamiami Trail\, Fort Myers\, 33908\, United States
CATEGORIES:FUN,KARAOKE
ATTACH;FMTTYPE=image/jpeg:https://www.mangoritasfmb.com/rita-content/uploads/2025/11/Travis-Toad-Karaoke-with-copy.jpg
END:VEVENT
BEGIN:VEVENT
DTSTART;TZID=America/New_York:20260610T170000
DTEND;TZID=America/New_York:20260610T210000
DTSTAMP:20260419T195727
CREATED:20250605T003719Z
LAST-MODIFIED:20260129T121936Z
UID:10000308-1781110800-1781125200@www.mangoritasfmb.com
SUMMARY:Poker Wednesdays with Devin!
DESCRIPTION:Poker Wednesdays at 5pm with Devin at ALL IN . COME EARLY and JOIN US FOR DINNER. FANTASTIC FOOD from a SPECIAL MENU. Come play the tournament style and enjoy hump day.
URL:https://www.mangoritasfmb.com/event/poker-wednesdays-2026-02-25/2026-06-10/
LOCATION:Mango Rita’s\, 16440 S Tamiami Trail\, Fort Myers\, 33908\, United States
CATEGORIES:FUN,GAMES
ATTACH;FMTTYPE=image/jpeg:https://www.mangoritasfmb.com/rita-content/uploads/2024/09/devinpokerimage.jpg
END:VEVENT
BEGIN:VEVENT
DTSTART;TZID=America/New_York:20260609T180000
DTEND;TZID=America/New_York:20260609T180000
DTSTAMP:20260419T195727
CREATED:20250604T233504Z
LAST-MODIFIED:20260202T145743Z
UID:10000565-1781028000-1781028000@www.mangoritasfmb.com
SUMMARY:World of Pearl
DESCRIPTION:Join Pearl every Tuesday for a soulful night of Motown\, Blues\, and R&B hits! Smooth sound\, timeless tunes\, and great company—only at Mango Rita’s Rhythm House. COME EARLY and JOIN US FOR DINNER. FANTASTIC FOOD from a SPECIAL MENU.
URL:https://www.mangoritasfmb.com/event/world-of-pearl-3-2026-02-24/2026-06-09/
LOCATION:Mango Rita’s\, 16440 S Tamiami Trail\, Fort Myers\, 33908\, United States
CATEGORIES:DANCING,FUN,LIVE MUSIC,Local Band
ATTACH;FMTTYPE=image/jpeg:https://www.mangoritasfmb.com/rita-content/uploads/2022/12/PEARL4.jpg
END:VEVENT
BEGIN:VEVENT
DTSTART;TZID=America/New_York:20260608T190000
DTEND;TZID=America/New_York:20260608T210000
DTSTAMP:20260419T195727
CREATED:20250604T232117Z
LAST-MODIFIED:20260129T121735Z
UID:10000050-1780945200-1780952400@www.mangoritasfmb.com
SUMMARY:Singo
DESCRIPTION:Singo is a musical twist on Bingo—songs play\, and your card is filled with song titles. Hear a song that’s on your card? Mark it off! Sing along\, dance\, and enjoy the vibe. It’s free to play\, and you could win gift certificates for your next fun night at Mango Rita’s Rhythm House! COME EARLY and JOIN US FOR DINNER. FANTASTIC FOOD from a SPECIAL MENU.
URL:https://www.mangoritasfmb.com/event/singo-2026-02-23/2026-06-08/
LOCATION:Mango Rita’s\, 16440 S Tamiami Trail\, Fort Myers\, 33908\, United States
CATEGORIES:FUN,GAMES
ATTACH;FMTTYPE=image/jpeg:https://www.mangoritasfmb.com/rita-content/uploads/2023/01/SINGO-e1676553924594.jpg
END:VEVENT
BEGIN:VEVENT
DTSTART;TZID=America/New_York:20260605T203000
DTEND;TZID=America/New_York:20260605T203000
DTSTAMP:20260419T195727
CREATED:20260330T140613Z
LAST-MODIFIED:20260330T140613Z
UID:10000922-1780691400-1780691400@www.mangoritasfmb.com
SUMMARY:Ramble On - The Mighty Zeppelin Tribute
DESCRIPTION:Purchase tickets Here! Must be 21 to enter. Doors Open at 6:30 PM. Come early and enjoy mouth watering food and cold drinks at Mango Rita’s Rhythm House served by the best and friendliest staff in the business. The premier tribute to Led Zeppelin\, delivering an electrifying performance that channels the power\, soul\, and swagger of Zeppelin at their peak.
URL:https://www.mangoritasfmb.com/event/ramble-on-the-mighty-zeppelin-tribute-2/
LOCATION:Mango Rita’s\, 16440 S Tamiami Trail\, Fort Myers\, 33908\, United States
CATEGORIES:LIVE MUSIC,Rock and Roll,Tribute Band
ATTACH;FMTTYPE=image/jpeg:https://www.mangoritasfmb.com/rita-content/uploads/2026/03/Ramble-on-6-5-26.jpg
END:VEVENT
BEGIN:VEVENT
DTSTART;TZID=America/New_York:20260603T180000
DTEND;TZID=America/New_York:20260603T210000
DTSTAMP:20260419T195727
CREATED:20251211T005803Z
LAST-MODIFIED:20260129T124615Z
UID:10000941-1780509600-1780520400@www.mangoritasfmb.com
SUMMARY:Karaoke with Travis "Toad"
DESCRIPTION:Bringing the best sound to karaoke!
URL:https://www.mangoritasfmb.com/event/karaoke-with-travis-toad-11/2026-06-03/
LOCATION:Mango Rita’s\, 16440 S Tamiami Trail\, Fort Myers\, 33908\, United States
CATEGORIES:FUN,KARAOKE
ATTACH;FMTTYPE=image/jpeg:https://www.mangoritasfmb.com/rita-content/uploads/2025/11/Travis-Toad-Karaoke-with-copy.jpg
END:VEVENT
BEGIN:VEVENT
DTSTART;TZID=America/New_York:20260603T170000
DTEND;TZID=America/New_York:20260603T210000
DTSTAMP:20260419T195727
CREATED:20250605T003719Z
LAST-MODIFIED:20260129T121936Z
UID:10000307-1780506000-1780520400@www.mangoritasfmb.com
SUMMARY:Poker Wednesdays with Devin!
DESCRIPTION:Poker Wednesdays at 5pm with Devin at ALL IN . COME EARLY and JOIN US FOR DINNER. FANTASTIC FOOD from a SPECIAL MENU. Come play the tournament style and enjoy hump day.
URL:https://www.mangoritasfmb.com/event/poker-wednesdays-2026-02-25/2026-06-03/
LOCATION:Mango Rita’s\, 16440 S Tamiami Trail\, Fort Myers\, 33908\, United States
CATEGORIES:FUN,GAMES
ATTACH;FMTTYPE=image/jpeg:https://www.mangoritasfmb.com/rita-content/uploads/2024/09/devinpokerimage.jpg
END:VEVENT
BEGIN:VEVENT
DTSTART;TZID=America/New_York:20260602T180000
DTEND;TZID=America/New_York:20260602T180000
DTSTAMP:20260419T195727
CREATED:20250604T233504Z
LAST-MODIFIED:20260202T145743Z
UID:10000564-1780423200-1780423200@www.mangoritasfmb.com
SUMMARY:World of Pearl
DESCRIPTION:Join Pearl every Tuesday for a soulful night of Motown\, Blues\, and R&B hits! Smooth sound\, timeless tunes\, and great company—only at Mango Rita’s Rhythm House. COME EARLY and JOIN US FOR DINNER. FANTASTIC FOOD from a SPECIAL MENU.
URL:https://www.mangoritasfmb.com/event/world-of-pearl-3-2026-02-24/2026-06-02/
LOCATION:Mango Rita’s\, 16440 S Tamiami Trail\, Fort Myers\, 33908\, United States
CATEGORIES:DANCING,FUN,LIVE MUSIC,Local Band
ATTACH;FMTTYPE=image/jpeg:https://www.mangoritasfmb.com/rita-content/uploads/2022/12/PEARL4.jpg
END:VEVENT
BEGIN:VEVENT
DTSTART;TZID=America/New_York:20260601T190000
DTEND;TZID=America/New_York:20260601T210000
DTSTAMP:20260419T195727
CREATED:20250604T232117Z
LAST-MODIFIED:20260129T121735Z
UID:10000049-1780340400-1780347600@www.mangoritasfmb.com
SUMMARY:Singo
DESCRIPTION:Singo is a musical twist on Bingo—songs play\, and your card is filled with song titles. Hear a song that’s on your card? Mark it off! Sing along\, dance\, and enjoy the vibe. It’s free to play\, and you could win gift certificates for your next fun night at Mango Rita’s Rhythm House! COME EARLY and JOIN US FOR DINNER. FANTASTIC FOOD from a SPECIAL MENU.
URL:https://www.mangoritasfmb.com/event/singo-2026-02-23/2026-06-01/
LOCATION:Mango Rita’s\, 16440 S Tamiami Trail\, Fort Myers\, 33908\, United States
CATEGORIES:FUN,GAMES
ATTACH;FMTTYPE=image/jpeg:https://www.mangoritasfmb.com/rita-content/uploads/2023/01/SINGO-e1676553924594.jpg
END:VEVENT
BEGIN:VEVENT
DTSTART;TZID=America/New_York:20260530T203000
DTEND;TZID=America/New_York:20260530T203000
DTSTAMP:20260419T195727
CREATED:20260406T134955Z
LAST-MODIFIED:20260406T134955Z
UID:10000930-1780173000-1780173000@www.mangoritasfmb.com
SUMMARY:Start Me Up! - A Tribute to Rolling Stones
DESCRIPTION:Purchase tickets Here! Must be 21 to enter. Doors Open at 6:30 PM. Come early and enjoy mouth watering food and cold drinks at Mango Rita’s Rhythm House served by the best and friendliest staff in the business. START ME UP is an incredible\, authentic recreation of THE ROLLING STONES. From the sights… the sounds… the moves… they are all part of this high energy show that will have you dancing and singing along to your favorite songs.
URL:https://www.mangoritasfmb.com/event/start-me-up-a-tribute-to-rolling-stones/
LOCATION:Mango Rita’s\, 16440 S Tamiami Trail\, Fort Myers\, 33908\, United States
CATEGORIES:DANCING,LIVE MUSIC,Rock and Roll,Tribute Band
ATTACH;FMTTYPE=image/jpeg:https://www.mangoritasfmb.com/rita-content/uploads/2026/04/Start-me-up-5-30-26.jpg
END:VEVENT
BEGIN:VEVENT
DTSTART;TZID=America/New_York:20260529T200000
DTEND;TZID=America/New_York:20260529T200000
DTSTAMP:20260419T195727
CREATED:20260323T122019Z
LAST-MODIFIED:20260323T122019Z
UID:10000921-1780084800-1780084800@www.mangoritasfmb.com
SUMMARY:The Best of Rod
DESCRIPTION:Purchase tickets Here! Must be 21 to enter. Doors Open at 6:00 PM. Come early and enjoy mouth watering food and cold drinks at Mango Rita’s Rhythm House served by the best and friendliest staff in the business. A World Renowned Tribute to the legendary ROD STEWART featuring Barry Britton as Rod. Barry has been performing a spot on Rod Stewart tribute for over 20 years all over the world which included a Las Vegas residency.
URL:https://www.mangoritasfmb.com/event/the-best-of-rod-2/
LOCATION:Mango Rita’s\, 16440 S Tamiami Trail\, Fort Myers\, 33908\, United States
CATEGORIES:LIVE MUSIC,Rock and Roll,Tribute Band
ATTACH;FMTTYPE=image/jpeg:https://www.mangoritasfmb.com/rita-content/uploads/2026/03/Best_of-Rod-5-26-26.jpg
END:VEVENT
BEGIN:VEVENT
DTSTART;TZID=America/New_York:20260527T180000
DTEND;TZID=America/New_York:20260527T210000
DTSTAMP:20260419T195727
CREATED:20251211T005803Z
LAST-MODIFIED:20260129T124615Z
UID:10000940-1779904800-1779915600@www.mangoritasfmb.com
SUMMARY:Karaoke with Travis "Toad"
DESCRIPTION:Bringing the best sound to karaoke!
URL:https://www.mangoritasfmb.com/event/karaoke-with-travis-toad-11/2026-05-27/
LOCATION:Mango Rita’s\, 16440 S Tamiami Trail\, Fort Myers\, 33908\, United States
CATEGORIES:FUN,KARAOKE
ATTACH;FMTTYPE=image/jpeg:https://www.mangoritasfmb.com/rita-content/uploads/2025/11/Travis-Toad-Karaoke-with-copy.jpg
END:VEVENT
BEGIN:VEVENT
DTSTART;TZID=America/New_York:20260527T170000
DTEND;TZID=America/New_York:20260527T210000
DTSTAMP:20260419T195727
CREATED:20250605T003719Z
LAST-MODIFIED:20260129T121936Z
UID:10000306-1779901200-1779915600@www.mangoritasfmb.com
SUMMARY:Poker Wednesdays with Devin!
DESCRIPTION:Poker Wednesdays at 5pm with Devin at ALL IN . COME EARLY and JOIN US FOR DINNER. FANTASTIC FOOD from a SPECIAL MENU. Come play the tournament style and enjoy hump day.
URL:https://www.mangoritasfmb.com/event/poker-wednesdays-2026-02-25/2026-05-27/
LOCATION:Mango Rita’s\, 16440 S Tamiami Trail\, Fort Myers\, 33908\, United States
CATEGORIES:FUN,GAMES
ATTACH;FMTTYPE=image/jpeg:https://www.mangoritasfmb.com/rita-content/uploads/2024/09/devinpokerimage.jpg
END:VEVENT
BEGIN:VEVENT
DTSTART;TZID=America/New_York:20260526T180000
DTEND;TZID=America/New_York:20260526T180000
DTSTAMP:20260419T195727
CREATED:20250604T233504Z
LAST-MODIFIED:20260202T145743Z
UID:10000563-1779818400-1779818400@www.mangoritasfmb.com
SUMMARY:World of Pearl
DESCRIPTION:Join Pearl every Tuesday for a soulful night of Motown\, Blues\, and R&B hits! Smooth sound\, timeless tunes\, and great company—only at Mango Rita’s Rhythm House. COME EARLY and JOIN US FOR DINNER. FANTASTIC FOOD from a SPECIAL MENU.
URL:https://www.mangoritasfmb.com/event/world-of-pearl-3-2026-02-24/2026-05-26/
LOCATION:Mango Rita’s\, 16440 S Tamiami Trail\, Fort Myers\, 33908\, United States
CATEGORIES:DANCING,FUN,LIVE MUSIC,Local Band
ATTACH;FMTTYPE=image/jpeg:https://www.mangoritasfmb.com/rita-content/uploads/2022/12/PEARL4.jpg
END:VEVENT
BEGIN:VEVENT
DTSTART;TZID=America/New_York:20260525T190000
DTEND;TZID=America/New_York:20260525T210000
DTSTAMP:20260419T195727
CREATED:20250604T232117Z
LAST-MODIFIED:20260129T121735Z
UID:10000048-1779735600-1779742800@www.mangoritasfmb.com
SUMMARY:Singo
DESCRIPTION:Singo is a musical twist on Bingo—songs play\, and your card is filled with song titles. Hear a song that’s on your card? Mark it off! Sing along\, dance\, and enjoy the vibe. It’s free to play\, and you could win gift certificates for your next fun night at Mango Rita’s Rhythm House! COME EARLY and JOIN US FOR DINNER. FANTASTIC FOOD from a SPECIAL MENU.
URL:https://www.mangoritasfmb.com/event/singo-2026-02-23/2026-05-25/
LOCATION:Mango Rita’s\, 16440 S Tamiami Trail\, Fort Myers\, 33908\, United States
CATEGORIES:FUN,GAMES
ATTACH;FMTTYPE=image/jpeg:https://www.mangoritasfmb.com/rita-content/uploads/2023/01/SINGO-e1676553924594.jpg
END:VEVENT
BEGIN:VEVENT
DTSTART;TZID=America/New_York:20260524T190000
DTEND;TZID=America/New_York:20260524T190000
DTSTAMP:20260419T195727
CREATED:20260304T123448Z
LAST-MODIFIED:20260416T145339Z
UID:10000916-1779649200-1779649200@www.mangoritasfmb.com
SUMMARY:SUNDAY FUNDAY with HAIRDAZE – The 80’s Rock Experience
DESCRIPTION:Purchase tickets Here! Must be 21 to enter. Doors Open at 5:00 PM. Come early and enjoy mouth watering food and cold drinks at Mango Rita’s Rhythm House served by the best and friendliest staff in the business. Hairdaze performs the best of 80’s Rock from such iconic groups as Guns N Roses\, Bon Jovi\, Van Halen\, Ratt\, Motley Crue\, Journey\, Night Ranger\, Poison\, and so many more!!! WHAT DO WE WANT? WE WANT HAIRDAZE!!!
URL:https://www.mangoritasfmb.com/event/sunday-funday-with-hairdaze-the-80s-rock-experience/
LOCATION:Mango Rita’s\, 16440 S Tamiami Trail\, Fort Myers\, 33908\, United States
CATEGORIES:DANCING,LIVE MUSIC,Rock and Roll,Tribute Band
ATTACH;FMTTYPE=image/jpeg:https://www.mangoritasfmb.com/rita-content/uploads/2026/03/Hairdaze-80s-rock-5-23-26.jpg
END:VEVENT
BEGIN:VEVENT
DTSTART;TZID=America/New_York:20260524T100000
DTEND;TZID=America/New_York:20260524T140000
DTSTAMP:20260419T195727
CREATED:20250604T235905Z
LAST-MODIFIED:20260129T131249Z
UID:10000837-1779616800-1779631200@www.mangoritasfmb.com
SUMMARY:Sunday Funday Car Show
DESCRIPTION:Car Cruise-In – Every 4th Sunday of the Month!We open at 10 AM – get here early to grab a good spot! Enjoy great food\, cold drinks\, and an awesome lineup of rides.Hot rods\, resto-mods\, antiques\, rat-rods\, exotics\, bikes—bring your ride\, show it off\, and connect with fellow car lovers at Mango Rita’s Rhythm House.
URL:https://www.mangoritasfmb.com/event/sunday-funday-car-show-2026-01-25/2026-05-24/
LOCATION:Mango Rita’s\, 16440 S Tamiami Trail\, Fort Myers\, 33908\, United States
CATEGORIES:FUN
ATTACH;FMTTYPE=image/jpeg:https://www.mangoritasfmb.com/rita-content/uploads/2024/04/free-car-show-clipart-8.jpg
END:VEVENT
BEGIN:VEVENT
DTSTART;TZID=America/New_York:20260523T203000
DTEND;TZID=America/New_York:20260523T203000
DTSTAMP:20260419T195727
CREATED:20260318T133141Z
LAST-MODIFIED:20260318T133141Z
UID:10000920-1779568200-1779568200@www.mangoritasfmb.com
SUMMARY:Slippery When Wet - The Ultimate Bon Jovi Tribute
DESCRIPTION:Purchase tickets Here! Must be 21 to enter. Doors Open at 6:30 PM. Come early and enjoy mouth watering food and cold drinks at Mango Rita’s Rhythm House served by the best and friendliest staff in the business. International Touring Act “SLIPPERY WHEN WET – THE ULTIMATE BON JOVI TRIBUTE” is coming back to Mango Rita’s Rhythm House. You might remember them from the hit show “Clash of the Cover Bands”.
URL:https://www.mangoritasfmb.com/event/slippery-when-wet-the-ultimate-bon-jovi-tribute/
LOCATION:Mango Rita’s\, 16440 S Tamiami Trail\, Fort Myers\, 33908\, United States
CATEGORIES:LIVE MUSIC,Rock and Roll,Tribute Band
ATTACH;FMTTYPE=image/jpeg:https://www.mangoritasfmb.com/rita-content/uploads/2026/03/Bon-Jovi-Slippery_when_wet-5-23-26.jpg
END:VEVENT
BEGIN:VEVENT
DTSTART;TZID=America/New_York:20260522T203000
DTEND;TZID=America/New_York:20260522T203000
DTSTAMP:20260419T195727
CREATED:20260304T124024Z
LAST-MODIFIED:20260304T124024Z
UID:10000917-1779481800-1779481800@www.mangoritasfmb.com
SUMMARY:Kiss Alive – The Tribute
DESCRIPTION:Purchase tickets Here! Must be 21 to enter. Doors Open at 6:30 PM. Come early and enjoy mouth watering food and cold drinks at Mango Rita’s Rhythm House served by the best and friendliest staff in the business. KISS ALIVE is the country’s premier KISS tribute act. KISS ALIVE delivers KISS tunes to perfection. The theatrics and the songs are all spot on!!!
URL:https://www.mangoritasfmb.com/event/kiss-alive-the-tribute/
LOCATION:Mango Rita’s\, 16440 S Tamiami Trail\, Fort Myers\, 33908\, United States
CATEGORIES:DANCING,LIVE MUSIC,Rock and Roll,Tribute Band
ATTACH;FMTTYPE=image/jpeg:https://www.mangoritasfmb.com/rita-content/uploads/2026/03/Kiss-Alive-5-22-26.jpg
END:VEVENT
BEGIN:VEVENT
DTSTART;TZID=America/New_York:20260520T180000
DTEND;TZID=America/New_York:20260520T180000
DTSTAMP:20260419T195727
CREATED:20260416T143814Z
LAST-MODIFIED:20260416T143814Z
UID:10001196-1779300000-1779300000@www.mangoritasfmb.com
SUMMARY:Michael D’Amore
DESCRIPTION:Michael D’Amore performs Doo Wop\, Pop and Soul! Call to reserve your table with us at 239-466-8336. COME EARLY and JOIN US FOR DINNER. FANTASTIC FOOD from a FULL MENU.
URL:https://www.mangoritasfmb.com/event/michael-damore/
LOCATION:Mango Rita’s\, 16440 S Tamiami Trail\, Fort Myers\, 33908\, United States
CATEGORIES:DANCING,LIVE MUSIC
ATTACH;FMTTYPE=image/jpeg:https://www.mangoritasfmb.com/rita-content/uploads/2025/06/Michael-DAmore-You-Make-Me-Feel-Brand-New-mp3-image-600x600-1.jpg
END:VEVENT
BEGIN:VEVENT
DTSTART;TZID=America/New_York:20260520T170000
DTEND;TZID=America/New_York:20260520T210000
DTSTAMP:20260419T195727
CREATED:20250605T003719Z
LAST-MODIFIED:20260129T121936Z
UID:10000305-1779296400-1779310800@www.mangoritasfmb.com
SUMMARY:Poker Wednesdays with Devin!
DESCRIPTION:Poker Wednesdays at 5pm with Devin at ALL IN . COME EARLY and JOIN US FOR DINNER. FANTASTIC FOOD from a SPECIAL MENU. Come play the tournament style and enjoy hump day.
URL:https://www.mangoritasfmb.com/event/poker-wednesdays-2026-02-25/2026-05-20/
LOCATION:Mango Rita’s\, 16440 S Tamiami Trail\, Fort Myers\, 33908\, United States
CATEGORIES:FUN,GAMES
ATTACH;FMTTYPE=image/jpeg:https://www.mangoritasfmb.com/rita-content/uploads/2024/09/devinpokerimage.jpg
END:VEVENT
BEGIN:VEVENT
DTSTART;TZID=America/New_York:20260519T180000
DTEND;TZID=America/New_York:20260519T180000
DTSTAMP:20260419T195727
CREATED:20250604T233504Z
LAST-MODIFIED:20260202T145743Z
UID:10000562-1779213600-1779213600@www.mangoritasfmb.com
SUMMARY:World of Pearl
DESCRIPTION:Join Pearl every Tuesday for a soulful night of Motown\, Blues\, and R&B hits! Smooth sound\, timeless tunes\, and great company—only at Mango Rita’s Rhythm House. COME EARLY and JOIN US FOR DINNER. FANTASTIC FOOD from a SPECIAL MENU.
URL:https://www.mangoritasfmb.com/event/world-of-pearl-3-2026-02-24/2026-05-19/
LOCATION:Mango Rita’s\, 16440 S Tamiami Trail\, Fort Myers\, 33908\, United States
CATEGORIES:DANCING,FUN,LIVE MUSIC,Local Band
ATTACH;FMTTYPE=image/jpeg:https://www.mangoritasfmb.com/rita-content/uploads/2022/12/PEARL4.jpg
END:VEVENT
BEGIN:VEVENT
DTSTART;TZID=America/New_York:20260518T190000
DTEND;TZID=America/New_York:20260518T210000
DTSTAMP:20260419T195728
CREATED:20250604T232117Z
LAST-MODIFIED:20260129T121735Z
UID:10000047-1779130800-1779138000@www.mangoritasfmb.com
SUMMARY:Singo
DESCRIPTION:Singo is a musical twist on Bingo—songs play\, and your card is filled with song titles. Hear a song that’s on your card? Mark it off! Sing along\, dance\, and enjoy the vibe. It’s free to play\, and you could win gift certificates for your next fun night at Mango Rita’s Rhythm House! COME EARLY and JOIN US FOR DINNER. FANTASTIC FOOD from a SPECIAL MENU.
URL:https://www.mangoritasfmb.com/event/singo-2026-02-23/2026-05-18/
LOCATION:Mango Rita’s\, 16440 S Tamiami Trail\, Fort Myers\, 33908\, United States
CATEGORIES:FUN,GAMES
ATTACH;FMTTYPE=image/jpeg:https://www.mangoritasfmb.com/rita-content/uploads/2023/01/SINGO-e1676553924594.jpg
END:VEVENT
BEGIN:VEVENT
DTSTART;TZID=America/New_York:20260516T203000
DTEND;TZID=America/New_York:20260516T203000
DTSTAMP:20260419T195728
CREATED:20260224T125707Z
LAST-MODIFIED:20260224T125722Z
UID:10000911-1778963400-1778963400@www.mangoritasfmb.com
SUMMARY:ROCK OF ABBA - A LIVE ABBA CONCERT EXPERIENCE
DESCRIPTION:Purchase tickets Here! Must be 21 to enter. Doors Open at 6:30 PM. Come early and enjoy mouth watering food and cold drinks at Mango Rita’s Rhythm House served by the best and friendliest staff in the business. Get ready for a high-energy\, unforgettable tribute to the one and only ABBA — the Swedish pop sensation that defined the 70s!
URL:https://www.mangoritasfmb.com/event/rock-of-abba-a-live-abba-concert-experience/
LOCATION:Mango Rita’s\, 16440 S Tamiami Trail\, Fort Myers\, 33908\, United States
CATEGORIES:DANCING,Rock and Roll,Tribute Band
ATTACH;FMTTYPE=image/jpeg:https://www.mangoritasfmb.com/rita-content/uploads/2026/02/Rock-of-abba-5-16-26.jpg
END:VEVENT
END:VCALENDAR